BEGIN:VCALENDAR
PRODID:NingEventWidget-v1
VERSION:2.0
METHOD:PUBLISH
BEGIN:VTIMEZONE
TZID:Europe/Paris
X-LIC-LOCATION:Europe/Paris
BEGIN:DAYLIGHT
TZOFFSETFROM:+0100
TZOFFSETTO:+0200
TZNAME:CEST
DTSTART:19700329T020000
RRULE:FREQ=YEARLY;BYMONTH=3;BYDAY=-1SU
END:DAYLIGHT
BEGIN:STANDARD
TZOFFSETFROM:+0200
TZOFFSETTO:+0100
TZNAME:CET
DTSTART:19701025T030000
RRULE:FREQ=YEARLY;BYMONTH=10;BYDAY=-1SU
END:STANDARD
END:VTIMEZONE
BEGIN:VEVENT
UID:2485226:Event:1112791
DTSTAMP:20260423T154226Z
SUMMARY:Conférences gratuites à Lambesc le 31 janvier 2013 et le 2 f
 évrier 2013
DESCRIPTION:Bonjour,\nNous avons le plaisir de vous annoncer que nous 
 allons bientôt nous rencontrer !\nEh oui, nous organisons des confé
 rences gratuites à Lambesc le jeudi 31 janvier et le samedi 2 févrie
 r 2013 pour vous présenter notre équipe, notre démarche et nos doma
 ines de compétences.\nVous pourrez ainsi venir écouter et poser vos 
 questions à nos intervenants sur des sujets tels que la lithothérapi
 e, les plantes médicinales, l’évolution des comportements alimenta
 ires, la sophrologie, le feng-shui, la numérologie, l’interprétati
 on des rêves, la relaxation, les mémoires akashiques,….\nVous trou
 verez sur le fichier joint le programme de ces deux journées.\nMerci 
 de nous contacter au moins 24h avant la(les) conférence(s) à laquell
 e (auxquelles) vous souhaitez participer sur contact@initiative-mieux-
 etre.com ou au 06.50.01.61.08 car le nombre de places est limité.\nSi
  un sujet vous intéresse mais que vous n’êtes pas disponible pour 
 la conférence, n’hésitez pas à nous en faire part !\nN’hésite
 z plus, venez nombreux !\nA très bientôt\nFanny pour Initiative Mie
 ux-Etre\n \n\nPour plus d'information, aller sur https://epanews.fr/e
 vents/conf-rences-gratuites-lambesc
DTSTART;TZID=Europe/Paris:20130131T000000
DTEND;TZID=Europe/Paris:20130131T235900
CATEGORIES:13
LOCATION:Lambesc
WEBSITE:http://www.initiative-mieux-etre.com
URL:http://www.initiative-mieux-etre.com
CONTACT:06.50.01.61.08
ORGANIZER;CN="Initiative Mieux-Etre":https://epanews.fr/profile/Initia
 tiveMieuxEtre
ATTACH;FMTTYPE="image/jpeg":
ATTENDEE;ROLE=REQ-PARTICIPANT;PARTSTAT=ACCEPTED;RSVP=TRUE;CN=Hirondell
 e:https://epanews.fr/profile/Hirondelle911
ATTENDEE;ROLE=REQ-PARTICIPANT;PARTSTAT=ACCEPTED;RSVP=TRUE;CN=OROMANA:h
 ttps://epanews.fr/profile/OROMANA
ATTENDEE;ROLE=REQ-PARTICIPANT;PARTSTAT=ACCEPTED;RSVP=TRUE;CN=Pat13:htt
 ps://epanews.fr/profile/DAVIET
ATTENDEE;ROLE=REQ-PARTICIPANT;PARTSTAT=ACCEPTED;RSVP=TRUE;CN=drinette:
 https://epanews.fr/profile/drinette
ATTENDEE;ROLE=REQ-PARTICIPANT;PARTSTAT=ACCEPTED;RSVP=TRUE;CN=jade:http
 s://epanews.fr/profile/RoseMarieBastardis
ATTENDEE;ROLE=REQ-PARTICIPANT;PARTSTAT=ACCEPTED;RSVP=TRUE;CN="Initiati
 ve Mieux-Etre":https://epanews.fr/profile/InitiativeMieuxEtre
ATTENDEE;ROLE=REQ-PARTICIPANT;PARTSTAT=TENTATIVE;RSVP=TRUE;CN=kristoui
 lle:https://epanews.fr/profile/kristouille
END:VEVENT
END:VCALENDAR
