BEGIN:VCALENDAR
PRODID:NingEventWidget-v1
VERSION:2.0
METHOD:PUBLISH
BEGIN:VTIMEZONE
TZID:Europe/Paris
X-LIC-LOCATION:Europe/Paris
BEGIN:DAYLIGHT
TZOFFSETFROM:+0100
TZOFFSETTO:+0200
TZNAME:CEST
DTSTART:19700329T020000
RRULE:FREQ=YEARLY;BYMONTH=3;BYDAY=-1SU
END:DAYLIGHT
BEGIN:STANDARD
TZOFFSETFROM:+0200
TZOFFSETTO:+0100
TZNAME:CET
DTSTART:19701025T030000
RRULE:FREQ=YEARLY;BYMONTH=10;BYDAY=-1SU
END:STANDARD
END:VTIMEZONE
BEGIN:VEVENT
UID:2485226:Event:759869
DTSTAMP:20260421T232417Z
SUMMARY:Conférences/Débats, journée festive, expositions Tb, Crista
 ux...
DESCRIPTION: La Science à l'épreuve du paranormal-Santé et spiritu
 alité avec  2 invitées exceptionnelles: Sylvie Simon et Sylvie  L
 e bivic Cette journée sera assortie du savoir faire de nombreux expo
 sants\nhttp://www.association-cristal.com aller sur le blog\n\nPour p
 lus d'information, aller sur https://epanews.fr/events/conf-rences-d-b
 ats-journ-e-festive-expositions-tb-cristaux
DTSTART;TZID=Europe/Paris:20120520T000000
DTEND;TZID=Europe/Paris:20120520T235900
CATEGORIES:95360
LOCATION:MONTMAGNY
WEBSITE:
URL:
CONTACT:
ORGANIZER;CN=Cristal:https://epanews.fr/profile/Cristal
ATTACH;FMTTYPE="image/jpeg":
ATTENDEE;ROLE=REQ-PARTICIPANT;PARTSTAT=ACCEPTED;RSVP=TRUE;CN=Cristal:h
 ttps://epanews.fr/profile/Cristal
END:VEVENT
END:VCALENDAR
