BEGIN:VCALENDAR
PRODID:NingEventWidget-v1
VERSION:2.0
METHOD:PUBLISH
BEGIN:VTIMEZONE
TZID:Europe/Paris
X-LIC-LOCATION:Europe/Paris
BEGIN:DAYLIGHT
TZOFFSETFROM:+0100
TZOFFSETTO:+0200
TZNAME:CEST
DTSTART:19700329T020000
RRULE:FREQ=YEARLY;BYMONTH=3;BYDAY=-1SU
END:DAYLIGHT
BEGIN:STANDARD
TZOFFSETFROM:+0200
TZOFFSETTO:+0100
TZNAME:CET
DTSTART:19701025T030000
RRULE:FREQ=YEARLY;BYMONTH=10;BYDAY=-1SU
END:STANDARD
END:VTIMEZONE
BEGIN:VEVENT
UID:2485226:Event:2991703
DTSTAMP:20260425T022340Z
SUMMARY:Conférences bouddhistes à Sanary
DESCRIPTION:\nCycle de conférences sur le thème :\nla Persévérance
  enthousiaste\nConférencier : Guélong Djangtchoub Puntsog (Vén. Mar
 kus)\nSamedi 24 et dimanche 25 novembre 2018\nde 10h00 à 17h00\nParti
 cipation aux frais : 8€ pour une conférence, 30€ pour l'ensemble
  des cinq.\nPossibilité de déjeuner sur place si vous le souhaitez e
 n apportant un plat à partager\n\nPour plus d'information, aller sur 
 https://epanews.fr/events/conf-rences-bouddhistes-sanary
DTSTART;TZID=Europe/Paris:20181124T000000
DTEND;TZID=Europe/Paris:20181125T235900
CATEGORIES:83
LOCATION:Centre Rabten Djangtchoub Ling à Sanary
WEBSITE:http://rabtensanary.blogspot.com/
URL:http://rabtensanary.blogspot.com/
CONTACT:06 87 43 91 43
ORGANIZER:Centre Rabten Djangtchoub Ling
ATTACH;FMTTYPE="image/jpeg":http://storage.ning.com/topology/rest/1.0/
 file/get/1663730246?profile=original
ATTENDEE;ROLE=REQ-PARTICIPANT;PARTSTAT=ACCEPTED;RSVP=TRUE;CN=Presence:
 https://epanews.fr/profile/Presence
END:VEVENT
END:VCALENDAR
