BEGIN:VCALENDAR
PRODID:NingEventWidget-v1
VERSION:2.0
METHOD:PUBLISH
BEGIN:VTIMEZONE
TZID:Europe/Paris
X-LIC-LOCATION:Europe/Paris
BEGIN:DAYLIGHT
TZOFFSETFROM:+0100
TZOFFSETTO:+0200
TZNAME:CEST
DTSTART:19700329T020000
RRULE:FREQ=YEARLY;BYMONTH=3;BYDAY=-1SU
END:DAYLIGHT
BEGIN:STANDARD
TZOFFSETFROM:+0200
TZOFFSETTO:+0100
TZNAME:CET
DTSTART:19701025T030000
RRULE:FREQ=YEARLY;BYMONTH=10;BYDAY=-1SU
END:STANDARD
END:VTIMEZONE
BEGIN:VEVENT
UID:2485226:Event:2283391
DTSTAMP:20260419T194240Z
SUMMARY:Conférence: \"Vivre sans stress\"
DESCRIPTION:\n\nInformations complémentaires :\nLa conférence sera p
 récédée d'une musique indienne interprétée au synthétiseur et un
 e méditation guidée (avec commentaire et musique) clôturera cette s
 oirée placée sous le signe de la spiritualité.\nAccès TPG: Tram 12
  arrêt Terrassière / Parkings Villeureuse ou Eaux-Vives 2000.\nPour 
 toutes questions ou renseignements:\nTél.: 079.581.40.72 ou geneva@c
 h.brahmakumaris.org\nSite Internet : http://www.bkwsu.org/switzerland
 /Calendrier?set_language=fr\nCordiale bienvenue !\n\nPour plus d'infor
 mation, aller sur https://epanews.fr/events/conf-rence-vivre-sans-stre
 ss
DTSTART;TZID=Europe/Paris:20150513T193000
DTEND;TZID=Europe/Paris:20150513T210000
CATEGORIES:suisse
LOCATION:Théâtre de l'Espérance
WEBSITE:http://centre-esperance.ch/pages%20photos/planquartier.htm
URL:http://centre-esperance.ch/pages%20photos/planquartier.htm
CONTACT:0041 79 581 40 72
ORGANIZER:Centre de Raja Yoga & méditation de Genève
ATTACH;FMTTYPE="image/jpeg":http://storage.ning.com/topology/rest/1.0/
 file/get/1663366702?profile=original
ATTENDEE;ROLE=REQ-PARTICIPANT;PARTSTAT=ACCEPTED;RSVP=TRUE;CN="Nicolas 
 Crettex":https://epanews.fr/profile/NicolasCrettex
END:VEVENT
END:VCALENDAR
