BEGIN:VCALENDAR
PRODID:NingEventWidget-v1
VERSION:2.0
METHOD:PUBLISH
BEGIN:VTIMEZONE
TZID:Europe/Paris
X-LIC-LOCATION:Europe/Paris
BEGIN:DAYLIGHT
TZOFFSETFROM:+0100
TZOFFSETTO:+0200
TZNAME:CEST
DTSTART:19700329T020000
RRULE:FREQ=YEARLY;BYMONTH=3;BYDAY=-1SU
END:DAYLIGHT
BEGIN:STANDARD
TZOFFSETFROM:+0200
TZOFFSETTO:+0100
TZNAME:CET
DTSTART:19701025T030000
RRULE:FREQ=YEARLY;BYMONTH=10;BYDAY=-1SU
END:STANDARD
END:VTIMEZONE
BEGIN:VEVENT
UID:2485226:Event:2589993
DTSTAMP:20260424T210902Z
SUMMARY:Vivre nos émotions positivement, par l'auto-hypnose
DESCRIPTION:Conférence donnée par Régis Fagot-Barraly, Hypnothérap
 eute au cabinet médical K12 à Marseille, et auteur du livre Que fair
 e de nos émotions :\nComment vivre nos émotions positivement :\n- Se
  mettre rapidement en auto-hypnose\n- Contacter nos émotions (ou reco
 ntacter une émotion disparue)\n- Apaiser l'émotion\n- Profiter de l'
 énergie émotionnelle et en faire une force\nDeux techniques seront d
 iffusées lors de cette conférence. Possibilité de se procurer le li
 vre \"Que faire de nos émotions\" et de le faire dédicacer par l'aut
 eur.\n\n\nPour plus d'information, aller sur https://epanews.fr/events
 /conf-rence-vivre-nos-motions-positivement-par-l-auto-hypnose
DTSTART;TZID=Europe/Paris:20160306T160000
DTEND;TZID=Europe/Paris:20160306T170000
CATEGORIES:84
LOCATION:Hotel Adonis, Avignon
WEBSITE:https://www.google.fr/maps/place/2+Rue+Marie+de+M%C3%A9dicis,+
 84000+Avignon/@43.9328528,4.8300554,17z/data=!3m1!4b1!4m2!3m1!1s0x12b5
 ec3e11e2773f:0x2c6c2284c927a3aa?hl=fr
URL:https://www.google.fr/maps/place/2+Rue+Marie+de+M%C3%A9dicis,+8400
 0+Avignon/@43.9328528,4.8300554,17z/data=!3m1!4b1!4m2!3m1!1s0x12b5ec3e
 11e2773f:0x2c6c2284c927a3aa?hl=fr
CONTACT:04 90 89 10 27
ORGANIZER:Régis Fagot-Barraly
ATTACH;FMTTYPE="image/jpeg":http://storage.ning.com/topology/rest/1.0/
 file/get/1663535405?profile=original
ATTENDEE;ROLE=REQ-PARTICIPANT;PARTSTAT=ACCEPTED;RSVP=TRUE;CN="Régis F
 agot":https://epanews.fr/profile/RegisFagot
END:VEVENT
END:VCALENDAR
