BEGIN:VCALENDAR
PRODID:NingEventWidget-v1
VERSION:2.0
METHOD:PUBLISH
BEGIN:VTIMEZONE
TZID:Europe/Paris
X-LIC-LOCATION:Europe/Paris
BEGIN:DAYLIGHT
TZOFFSETFROM:+0100
TZOFFSETTO:+0200
TZNAME:CEST
DTSTART:19700329T020000
RRULE:FREQ=YEARLY;BYMONTH=3;BYDAY=-1SU
END:DAYLIGHT
BEGIN:STANDARD
TZOFFSETFROM:+0200
TZOFFSETTO:+0100
TZNAME:CET
DTSTART:19701025T030000
RRULE:FREQ=YEARLY;BYMONTH=10;BYDAY=-1SU
END:STANDARD
END:VTIMEZONE
BEGIN:VEVENT
UID:2485226:Event:2580495
DTSTAMP:20260425T022400Z
SUMMARY:Conférence : Vivre des relations harmonieuses au quotidien
DESCRIPTION:CONFERENCE - Tours Centre\n\"Vivre des Relations harmonieu
 ses au Quotidien\"\nAvec Maria LOIRE\n \nL'harmonie dans les relation
 s\nÊtre en paix avec soi même et avec l'autre (parents, collègues, 
 compagnons de vie, enfants...)\nLe changement de regard sur nos propre
 s expériences\nComment qualifiez-vous vos relations aujourd'hui ?\n 
 \nMaria Loire est l’organisatrice du Festival des Z’éveilleurs\nP
 articipation aux frais :  10 euros*(5 € étudiants, chômeurs)\nPlu
 s de détail sur le site de Via Energetica\nhttp://www.viaenergetica.f
 r/conference-maria-loire/\n \n\nPour plus d'information, aller sur ht
 tps://epanews.fr/events/conf-rence-vivre-des-relations-harmonieuses-au
 -quotidien
DTSTART;TZID=Europe/Paris:20160308T193000
DTEND;TZID=Europe/Paris:20160308T220000
CATEGORIES:37
LOCATION:Tours centre
WEBSITE:http://www.viaenergetica.fr/conference-maria-loire/
URL:http://www.viaenergetica.fr/conference-maria-loire/
CONTACT:0668945870
ORGANIZER:Via Energetica
ATTACH;FMTTYPE="image/jpeg":http://storage.ning.com/topology/rest/1.0/
 file/get/1663527758?profile=original
ATTENDEE;ROLE=REQ-PARTICIPANT;PARTSTAT=ACCEPTED;RSVP=TRUE;CN=Via:https
 ://epanews.fr/profile/Via
END:VEVENT
END:VCALENDAR
