BEGIN:VCALENDAR
PRODID:NingEventWidget-v1
VERSION:2.0
METHOD:PUBLISH
BEGIN:VTIMEZONE
TZID:Europe/Paris
X-LIC-LOCATION:Europe/Paris
BEGIN:DAYLIGHT
TZOFFSETFROM:+0100
TZOFFSETTO:+0200
TZNAME:CEST
DTSTART:19700329T020000
RRULE:FREQ=YEARLY;BYMONTH=3;BYDAY=-1SU
END:DAYLIGHT
BEGIN:STANDARD
TZOFFSETFROM:+0200
TZOFFSETTO:+0100
TZNAME:CET
DTSTART:19701025T030000
RRULE:FREQ=YEARLY;BYMONTH=10;BYDAY=-1SU
END:STANDARD
END:VTIMEZONE
BEGIN:VEVENT
UID:2485226:Event:2934385
DTSTAMP:20260421T184528Z
SUMMARY:ConfÃ©rence sur Ho'oponopono et la mÃ©thode HO'OMEÂ®
DESCRIPTION:DÃ©couvrez les principes de la mÃ©thode de guÃ©rison hawaÃ
 ¯enne Ho'oponopono et comment transformer vos intÃ©rieurs et votre vie
  avec la mÃ©thode HO'OMEÂ®.  ConfÃ©rence et salon organisÃ© par l'asso
 ciation En'vie (https://www.envie-pays-d-arles.com)\n\nPour plus d'inf
 ormation, aller sur https://epanews.fr/events/conf-rence-vivre-avec-ho
 -oponopono-et-m-thode-ho-ome
DTSTART;TZID=Europe/Paris:20180218T150000
DTEND;TZID=Europe/Paris:20180218T160000
CATEGORIES:13, 30
LOCATION:Maison de la vie Associative - ARLES
WEBSITE:https://www.google.com/maps/place/Maison+de+la+vie+Associative
 ,+2+Boulevard+des+Lices,+13200+Arles/@43.6748122,4.6307276,16z/data=!4
 m2!3m1!1s0x12b6766c5d2258f1:0xd4d351760f19e091
URL:https://www.google.com/maps/place/Maison+de+la+vie+Associative,+2+
 Boulevard+des+Lices,+13200+Arles/@43.6748122,4.6307276,16z/data=!4m2!3
 m1!1s0x12b6766c5d2258f1:0xd4d351760f19e091
CONTACT:06 26 81 11 30
ORGANIZER;CN=missisnathalie:https://epanews.fr/profile/missisnathalie
ATTACH;FMTTYPE="image/jpeg":http://storage.ning.com/topology/rest/1.0/
 file/get/1663721396?profile=original
ATTENDEE;ROLE=REQ-PARTICIPANT;PARTSTAT=ACCEPTED;RSVP=TRUE;CN=missisnat
 halie:https://epanews.fr/profile/missisnathalie
END:VEVENT
END:VCALENDAR
