BEGIN:VCALENDAR
PRODID:NingEventWidget-v1
VERSION:2.0
METHOD:PUBLISH
BEGIN:VTIMEZONE
TZID:Europe/Paris
X-LIC-LOCATION:Europe/Paris
BEGIN:DAYLIGHT
TZOFFSETFROM:+0100
TZOFFSETTO:+0200
TZNAME:CEST
DTSTART:19700329T020000
RRULE:FREQ=YEARLY;BYMONTH=3;BYDAY=-1SU
END:DAYLIGHT
BEGIN:STANDARD
TZOFFSETFROM:+0200
TZOFFSETTO:+0100
TZNAME:CET
DTSTART:19701025T030000
RRULE:FREQ=YEARLY;BYMONTH=10;BYDAY=-1SU
END:STANDARD
END:VTIMEZONE
BEGIN:VEVENT
UID:2485226:Event:2632794
DTSTAMP:20260423T054748Z
SUMMARY:ConfÃ©rence- Vers une nouvelle conscience: un rÃªve, une rÃ©al
 itÃ©?
DESCRIPTION:La conscience porte en nous le pouvoir de percevoir et cel
 ui de penser. Elle est notre fenÃªtre sur le monde et le miroir de not
 re Ãªtre ; elle est le premier et le dernier mystÃ¨re de nos vies ! La
  religion nâ€™en considÃ¨re que lâ€™aspect moral, tandis que la scienc
 e y voit son ultime dÃ©fi. Au cours du temps, de gÃ©nÃ©rations en gÃ©n
 Ã©rations, il semble que la conscience humaine Ã©volua : elle le fera 
 encore. OÃ¹ nous mÃ¨ne-t-elle ? Pourtant, depuis toujours elle ne cess
 e de nous interpeller : Â« pourquoi ? Â» Pour HermÃ¨s Â« La perception
  et le pouvoir de penser de Dieu câ€™est le mouvement perpÃ©tuel de lâ
 €™Universâ€¦ Â». Aurions-nous en nous un univers intÃ©rieur Ã  dÃ©couv
 rir ?ConfÃ©rence libre et gratuiteÂ \n\nPour plus d'information, aller
  sur https://epanews.fr/events/conf-rence-vers-une-nouvelle-conscience
 -un-r-ve-une-r-alit
DTSTART;TZID=Europe/Paris:20160504T193000
DTEND;TZID=Europe/Paris:20160504T213000
CATEGORIES:75
LOCATION:HÃ´tel Le Clos Notre Dame
WEBSITE:http://paris.rose-croix-d-or.org
URL:http://paris.rose-croix-d-or.org
CONTACT:0661320412
ORGANIZER;CN=sylvanus:https://epanews.fr/profile/sylvanus
ATTACH;FMTTYPE="image/jpeg":http://storage.ning.com/topology/rest/1.0/
 file/get/1663559662?profile=original
ATTENDEE;ROLE=REQ-PARTICIPANT;PARTSTAT=ACCEPTED;RSVP=TRUE;CN=sylvanus:
 https://epanews.fr/profile/sylvanus
END:VEVENT
END:VCALENDAR
