BEGIN:VCALENDAR
PRODID:NingEventWidget-v1
VERSION:2.0
METHOD:PUBLISH
BEGIN:VTIMEZONE
TZID:Europe/Paris
X-LIC-LOCATION:Europe/Paris
BEGIN:DAYLIGHT
TZOFFSETFROM:+0100
TZOFFSETTO:+0200
TZNAME:CEST
DTSTART:19700329T020000
RRULE:FREQ=YEARLY;BYMONTH=3;BYDAY=-1SU
END:DAYLIGHT
BEGIN:STANDARD
TZOFFSETFROM:+0200
TZOFFSETTO:+0100
TZNAME:CET
DTSTART:19701025T030000
RRULE:FREQ=YEARLY;BYMONTH=10;BYDAY=-1SU
END:STANDARD
END:VTIMEZONE
BEGIN:VEVENT
UID:2485226:Event:1491099
DTSTAMP:20260423T134624Z
SUMMARY:ConfÃ©rence: Traitement des allergies: mÃ©thode BBA
DESCRIPTION:Bonjour Ã  tous,Â \nVenez dÃ©couvrir la mÃ©thode naturelle
  BBA de traitement des allergies.\nLa confÃ©rence est animÃ©e par Kari
 ne Le Lannier Â ( http://www.karine-lelannier.fr/)Â au Centre Sakura Ã
   Muret le 15 novembre 2013 Ã  20h.\nPrix: 5 euros (2 euros pour les a
 dhÃ©rents)\nA trÃ¨s bientÃ´t. :-)\n\nPour plus d'information, aller su
 r https://epanews.fr/events/conf-rence-traitement-des-allergies-m-thod
 e-bba
DTSTART;TZID=Europe/Paris:20131115T200000
DTEND;TZID=Europe/Paris:20131115T220000
CATEGORIES:31
LOCATION:Centre Sakura
WEBSITE:http://www.sakura-medecinedouce.fr/
URL:http://www.sakura-medecinedouce.fr/
CONTACT:06 62 40 74 26
ORGANIZER;CN="Karine Le Lannier":https://epanews.fr/profile/KarineLeLa
 nnier
ATTACH;FMTTYPE="image/jpeg":
ATTENDEE;ROLE=REQ-PARTICIPANT;PARTSTAT=ACCEPTED;RSVP=TRUE;CN="Karine L
 e Lannier":https://epanews.fr/profile/KarineLeLannier
END:VEVENT
END:VCALENDAR
