BEGIN:VCALENDAR
PRODID:NingEventWidget-v1
VERSION:2.0
METHOD:PUBLISH
BEGIN:VTIMEZONE
TZID:Europe/Paris
X-LIC-LOCATION:Europe/Paris
BEGIN:DAYLIGHT
TZOFFSETFROM:+0100
TZOFFSETTO:+0200
TZNAME:CEST
DTSTART:19700329T020000
RRULE:FREQ=YEARLY;BYMONTH=3;BYDAY=-1SU
END:DAYLIGHT
BEGIN:STANDARD
TZOFFSETFROM:+0200
TZOFFSETTO:+0100
TZNAME:CET
DTSTART:19701025T030000
RRULE:FREQ=YEARLY;BYMONTH=10;BYDAY=-1SU
END:STANDARD
END:VTIMEZONE
BEGIN:VEVENT
UID:2485226:Event:2333270
DTSTAMP:20260421T214635Z
SUMMARY:Conférence à Tours : \"Dépression, prise de recul et Renais
 sance
DESCRIPTION:Nicole Tachau-Jacquot, auteur du livre «Le bonheur de con
 struire sa vie» (Éditions Quintessence) apporte un éclairage diffé
 rent de l’analyse habituelle et une vision en psychologie positive.\
 nElle parlera sur les symptômes de la dépression, sur la problémati
 que du mental, sur le sens de la dépression et de la souffrance, de l
 a traversée douloureuse et sur la guérison possible. « La dépress
 ion a-t-elle une fonction ? Doit on la faire taire à tout prix? Comme
 nt faire pour que cela fonctionne au lieu de se dire pourquoi cela ne 
 fonctionne pas.. ».\n\nPour plus d'information, aller sur https://ep
 anews.fr/events/conf-rence-tours-d-pression-prise-de-recul-et-renaissa
 nce
DTSTART;TZID=Europe/Paris:20150605T200000
DTEND;TZID=Europe/Paris:20150605T213000
CATEGORIES:37
LOCATION:Tours
WEBSITE:http://www.viaenergetica.fr/conference-via-nicole-tachau-jacqu
 ot/
URL:http://www.viaenergetica.fr/conference-via-nicole-tachau-jacquot/
CONTACT:
ORGANIZER:Via Energetica
ATTACH;FMTTYPE="image/jpeg":http://storage.ning.com/topology/rest/1.0/
 file/get/1663402634?profile=original
ATTENDEE;ROLE=REQ-PARTICIPANT;PARTSTAT=ACCEPTED;RSVP=TRUE;CN=Via:https
 ://epanews.fr/profile/Via
END:VEVENT
END:VCALENDAR
