BEGIN:VCALENDAR
PRODID:NingEventWidget-v1
VERSION:2.0
METHOD:PUBLISH
BEGIN:VTIMEZONE
TZID:Europe/Paris
X-LIC-LOCATION:Europe/Paris
BEGIN:DAYLIGHT
TZOFFSETFROM:+0100
TZOFFSETTO:+0200
TZNAME:CEST
DTSTART:19700329T020000
RRULE:FREQ=YEARLY;BYMONTH=3;BYDAY=-1SU
END:DAYLIGHT
BEGIN:STANDARD
TZOFFSETFROM:+0200
TZOFFSETTO:+0100
TZNAME:CET
DTSTART:19701025T030000
RRULE:FREQ=YEARLY;BYMONTH=10;BYDAY=-1SU
END:STANDARD
END:VTIMEZONE
BEGIN:VEVENT
UID:2485226:Event:2466360
DTSTAMP:20260421T000001Z
SUMMARY:ConfÃ©rence thÃ©Ã¢tralisÃ©e : Et si je perds mes moyens ?
DESCRIPTION:Les Z'ateliers de Catherine prÃ©sentent la 3Ã¨me confÃ©ren
 ce-atelier thÃ©Ã¢tralisÃ©e :\nEpisode 3Â :Â Et si je perds mes moyensÂ
  ?\nComment Ã©viter d'Ãªtre submergÃ© par nos Ã©motions et risquer de 
 perdre le contrÃ´le de nos comportementsÂ ?\nIllustrant leurs propos p
 ar des saynÃ¨tes tirÃ©es de la vie courante, Catherine & Dominique abo
 rderont, avec humour et pertinence,Â les situations oÃ¹ les Ã©motions 
 prennent le dessus...\nCet atelier ludique et interactif proposera des
  clÃ©s concrÃ¨tes lÃ  oÃ¹, d'ordinaire, nous nous sentons plutÃ´t dÃ©m
 unis, le but Ã©tant de crÃ©er en soi les conditions d'un dialogue cons
 tructif.\nIntervenantsÂ : Dominique PROUDHON,Â ConfÃ©rencier, Â MÃ©dia
 teurÂ et Catherine LAURENT, ComÃ©dienne - Rigologue.\n-Â¬Â -Â¬-Â¬-Â¬-\
 nLudiques et interactives, ces confÃ©rences-ateliers ouvrent un passag
 e vers une autre faÃ§on de rÃ©agir en cas de diffÃ©rend, plus construc
 tive et surtout plus riche de possibles.\nOn ne fait pas que passer un
  bon moment dans ces confÃ©rences particuliÃ¨res :Â on apprend tout en
  sâ€™amusant et on repartÂ avec de nouveaux savoir-faire concrets, iss
 us d'un regard de chercheur scientifique et d'une expÃ©rience de mÃ©di
 ateur en entreprise de plus de 20 ans.\nRÃ©servation requise (places l
 imitÃ©es) : directement sur le site :Â Les Z'ateliers de CatherineÂ ou
  au 06 16 41 53 63\n\nPour plus d'information, aller sur https://epane
 ws.fr/events/conf-rence-th-tralis-e-et-si-je-perds-mes-moyens
DTSTART;TZID=Europe/Paris:20151112T200000
DTEND;TZID=Europe/Paris:20151112T220000
CATEGORIES:30
LOCATION:LONDON TAVERN
WEBSITE:https://www.google.fr/maps/dir/24+Boulevard+Amiral+Courbet,+30
 000+N%C3%AEmes//@43.838855,4.36202,16.75z/data=!4m8!4m7!1m5!1m1!1s0x12
 b42d0c5059e03b:0x1960dbeadd4f4ffd!2m2!1d4.3636989!2d43.8386513!1m0
URL:https://www.google.fr/maps/dir/24+Boulevard+Amiral+Courbet,+30000+
 N%C3%AEmes//@43.838855,4.36202,16.75z/data=!4m8!4m7!1m5!1m1!1s0x12b42d
 0c5059e03b:0x1960dbeadd4f4ffd!2m2!1d4.3636989!2d43.8386513!1m0
CONTACT:06 16 41 56 63
ORGANIZER;CN="LAURENT Catherine":https://epanews.fr/profile/LAURENTCat
 herine
ATTACH;FMTTYPE="image/jpeg":http://storage.ning.com/topology/rest/1.0/
 file/get/1663476317?profile=original
ATTENDEE;ROLE=REQ-PARTICIPANT;PARTSTAT=ACCEPTED;RSVP=TRUE;CN="LAURENT 
 Catherine":https://epanews.fr/profile/LAURENTCatherine
END:VEVENT
END:VCALENDAR
