BEGIN:VCALENDAR
PRODID:NingEventWidget-v1
VERSION:2.0
METHOD:PUBLISH
BEGIN:VTIMEZONE
TZID:Europe/Paris
X-LIC-LOCATION:Europe/Paris
BEGIN:DAYLIGHT
TZOFFSETFROM:+0100
TZOFFSETTO:+0200
TZNAME:CEST
DTSTART:19700329T020000
RRULE:FREQ=YEARLY;BYMONTH=3;BYDAY=-1SU
END:DAYLIGHT
BEGIN:STANDARD
TZOFFSETFROM:+0200
TZOFFSETTO:+0100
TZNAME:CET
DTSTART:19701025T030000
RRULE:FREQ=YEARLY;BYMONTH=10;BYDAY=-1SU
END:STANDARD
END:VTIMEZONE
BEGIN:VEVENT
UID:2485226:Event:2876929
DTSTAMP:20260420T204359Z
SUMMARY:ConfÃ©rence thÃ©Ã¢tralisÃ©e : Dire... sans mettre le feu ! 2e 
 partie
DESCRIPTION:LesÂ Z'ateliersÂ deÂ CatherineÂ ont le plaisir de vous pro
 poser une nouvelle soirÃ©eÂ thÃ©Ã¢tralisÃ©e sur lâ€™amÃ©liorationÂ de 
 notre communication :\nDire... sans mettre le feu !\nA partir de situa
 tions concrÃ¨tes, vous verrez comment appliquer les 5 ingrÃ©dients clÃ
 ©s donnÃ©s par Dominique lors de la 1Ã¨re confÃ©rence, pour dire sans 
 mettre le feu.\nHistoire d'entraÃ®ner nos cerveaux Ã  trouver ce chemi
 n inhabituel pour bien poser les chosesâ€¦\nÂ \nAnimÃ©e par Dominique 
 PROUDHON confÃ©rencier-mÃ©diateur et Catherine LAURENT, ComÃ©dienne ri
 gologue.\nSoirÃ©e dÃ©contractÃ©e et amusante, qui se poursuivra autour
  d'un pot convivial avec ce que chacun aura amenÃ© (Ã  boire ou Ã  gri
 gnoter).x\n- DurÃ©eÂ : 20h â€“ 22h (arriver 15 mn avant)\n- PAF : 10â‚
 ¬/8â‚¬ (adhÃ©rents)/ 5â‚¬ (demandeurs d'emploi - Ã©tudiants)\nRÃ©serva
 tion sur www.leszateliersdecatherine.fr ou au 06 16 41 56 63\n\nPour p
 lus d'information, aller sur https://epanews.fr/events/conf-rence-th-t
 ralis-e-dire-sans-mettre-le-feu-2e-partie
DTSTART;TZID=Europe/Paris:20171005T200000
DTEND;TZID=Europe/Paris:20171005T220000
CATEGORIES:30
LOCATION:LE ZIGOM
WEBSITE:
URL:
CONTACT:0616415663
ORGANIZER;CN="LAURENT Catherine":https://epanews.fr/profile/LAURENTCat
 herine
ATTACH;FMTTYPE="image/jpeg":http://storage.ning.com/topology/rest/1.0/
 file/get/1663690672?profile=original
ATTENDEE;ROLE=REQ-PARTICIPANT;PARTSTAT=ACCEPTED;RSVP=TRUE;CN="LAURENT 
 Catherine":https://epanews.fr/profile/LAURENTCatherine
END:VEVENT
END:VCALENDAR
