BEGIN:VCALENDAR
PRODID:NingEventWidget-v1
VERSION:2.0
METHOD:PUBLISH
BEGIN:VTIMEZONE
TZID:Europe/Paris
X-LIC-LOCATION:Europe/Paris
BEGIN:DAYLIGHT
TZOFFSETFROM:+0100
TZOFFSETTO:+0200
TZNAME:CEST
DTSTART:19700329T020000
RRULE:FREQ=YEARLY;BYMONTH=3;BYDAY=-1SU
END:DAYLIGHT
BEGIN:STANDARD
TZOFFSETFROM:+0200
TZOFFSETTO:+0100
TZNAME:CET
DTSTART:19701025T030000
RRULE:FREQ=YEARLY;BYMONTH=10;BYDAY=-1SU
END:STANDARD
END:VTIMEZONE
BEGIN:VEVENT
UID:2485226:Event:1957401
DTSTAMP:20260424T071804Z
SUMMARY:ConfÃ©rence - TÃ©moignage sur le Burn Out
DESCRIPTION:Le burn out : c'est refaire constamment la mÃªme chose en 
 espÃ©rant que le rÃ©sultat sera diffÃ©rent! \nAyant traversÃ© un burn 
 out important il y a 10 ans, Tony nous propose son tÃ©moignage lors d'
 une confÃ©rence au centre Carpe Diem Ã  Bernex en Suisse, mercredi 25 
 Juin Ã  20H00. \nIl y expose de maniÃ¨re trÃ¨s simple les causes du bu
 rn out, les solutions efficaces (ainsi que celles Ã  Ã©viter) qui lui 
 ont permis de retrouver une vie harmonieuse, Ã©nergie et confiance en 
 lui. \nLoin d'Ãªtre une fatalitÃ©, le burn out nous indique qu'il est 
 temps de se prendre en main afin de mettre en place les changements nÃ
 ©cessaires Ã  son Ã©panouissement. \nLe nombre de places Ã©tant limitÃ
 ©, nous vous remercions de bien vouloir signaler votre venue en envoya
 nt vos nom et prÃ©nom par email Ã  tony@burnout-eveil.com \nC'est dans
  l'Ã©change qu'on change, alors Ã  dimanche!\n\nPour plus d'informatio
 n, aller sur https://epanews.fr/events/conf-rence-t-moignage-sur-le-bu
 rn-out-1
DTSTART;TZID=Europe/Paris:20140625T200000
DTEND;TZID=Europe/Paris:20140625T220000
CATEGORIES:canton, de, genÃ¨ve
LOCATION:Centre Carpe Diem
WEBSITE:http://www.burnout-eveil.com
URL:http://www.burnout-eveil.com
CONTACT:06 22 16 07 81
ORGANIZER;CN=Arecibo:https://epanews.fr/profile/Arecibo
ATTACH;FMTTYPE="image/jpeg":http://storage.ning.com/topology/rest/1.0/
 file/get/1663162832?profile=original
ATTENDEE;ROLE=REQ-PARTICIPANT;PARTSTAT=ACCEPTED;RSVP=TRUE;CN=Arecibo:h
 ttps://epanews.fr/profile/Arecibo
END:VEVENT
END:VCALENDAR
