BEGIN:VCALENDAR
PRODID:NingEventWidget-v1
VERSION:2.0
METHOD:PUBLISH
BEGIN:VTIMEZONE
TZID:Europe/Paris
X-LIC-LOCATION:Europe/Paris
BEGIN:DAYLIGHT
TZOFFSETFROM:+0100
TZOFFSETTO:+0200
TZNAME:CEST
DTSTART:19700329T020000
RRULE:FREQ=YEARLY;BYMONTH=3;BYDAY=-1SU
END:DAYLIGHT
BEGIN:STANDARD
TZOFFSETFROM:+0200
TZOFFSETTO:+0100
TZNAME:CET
DTSTART:19701025T030000
RRULE:FREQ=YEARLY;BYMONTH=10;BYDAY=-1SU
END:STANDARD
END:VTIMEZONE
BEGIN:VEVENT
UID:2485226:Event:1967127
DTSTAMP:20260421T190757Z
SUMMARY:Conférence - Synergie bien-être et travail sur soi
DESCRIPTION:Au cours de cette conférence/présentation nous vous pré
 senteront différentes Synergies Bien-être qui permettent d’accompa
 gner un travail particulier que nous souhaitons faire comme : la conf
 iance, le calme, libérer des craintes, harmonisé un état de conflit
  intérieur, retrouver un esprit claire, sortir des incertitudes etc. 
 Ces synergies bien-être sont également une aide précieuse à l’ac
 compagnement d’une écoute et d’une compréhension de soi pour un 
 retour à l’équilibre.\n \nVenez découvrir les bienfaits exceptio
 nnels de ces synergies bien-être qui agissent sur l’être humain da
 ns sa globalité et en profondeur pour satisfaire les personnes et les
  thérapeutes dans la recherche d’un travail spécifique à faire. N
 ous vous proposons de découvrir les senteurs mais aussi le message de
  soutien inspiré dont elles sont porteuses incitant  à une introspe
 ction  avec soi-même.\nSamedi 12 juillet  2014 à 14h00-16h00\n \n
 Au sommaire :\n*L’art de l’onction\n*La place de l’huile dans u
 n soin\n*La recherche d’un travail spécifique\n*Connaissance de Soi
  à travers le message de l’onction\n*Comment choisir la bonne Syner
 gie ?\n \nPrésentée par Véronique SORRENTINO\nEntrée gratuite.\n
 Merci de confirmer votre présence.\n \n\n\nPour plus d'information, 
 aller sur https://epanews.fr/events/conf-rence-synergie-bien-tre-et-tr
 avail-sur-soi
DTSTART;TZID=Europe/Paris:20140712T000000
DTEND;TZID=Europe/Paris:20140712T235900
CATEGORIES:13
LOCATION:Centre de Psychologie Bien-être et Santé
WEBSITE:http://www.connaissanceetsavoir.com
URL:http://www.connaissanceetsavoir.com
CONTACT:06 17 21 36 95
ORGANIZER;CN="Véronique SORRENTINO":https://epanews.fr/profile/Connai
 ssanceetSavoir
ATTACH;FMTTYPE="image/jpeg":http://storage.ning.com/topology/rest/1.0/
 file/get/1663169010?profile=original
ATTENDEE;ROLE=REQ-PARTICIPANT;PARTSTAT=ACCEPTED;RSVP=TRUE;CN="Véroniq
 ue SORRENTINO":https://epanews.fr/profile/ConnaissanceetSavoir
END:VEVENT
END:VCALENDAR
