BEGIN:VCALENDAR
PRODID:NingEventWidget-v1
VERSION:2.0
METHOD:PUBLISH
BEGIN:VTIMEZONE
TZID:Europe/Paris
X-LIC-LOCATION:Europe/Paris
BEGIN:DAYLIGHT
TZOFFSETFROM:+0100
TZOFFSETTO:+0200
TZNAME:CEST
DTSTART:19700329T020000
RRULE:FREQ=YEARLY;BYMONTH=3;BYDAY=-1SU
END:DAYLIGHT
BEGIN:STANDARD
TZOFFSETFROM:+0200
TZOFFSETTO:+0100
TZNAME:CET
DTSTART:19701025T030000
RRULE:FREQ=YEARLY;BYMONTH=10;BYDAY=-1SU
END:STANDARD
END:VTIMEZONE
BEGIN:VEVENT
UID:2485226:Event:2077519
DTSTAMP:20260422T065221Z
SUMMARY:Conférence - Ma vie à t'elle un sens ?
DESCRIPTION:Conférence à Marseille\nvendredi 23 janvier 2015 à 18h3
 0\nConférences sur le thème : « Ma vie à t-elle un sens »  vendre
 di 23 janvier 2015 à 18h30\n Ma vie a t’elle un sens ? Suis-je util
 e ?  Que faire pour me sentir bien dans ma peau ?  La réponse à ce
 s questions se trouve au fond de soi autant que dans la relation à l'
 autre. Il arrive, au gré des circonstances, que l'individu se perde d
 ans la confusion des sentiments, que sa conscience se brouille, que se
 s sens ne réagissent plus (je n'ai plus de goût à rien) ou en déso
 rdre (je ne sais plus où j'en suis), rompant ainsi dangereusement l'u
 nité avec soi-même et avec autrui. Cette crise d'identité, conduit 
 souvent l'individu à se couper du monde. Etre confronté à une perte
  de sens, c'est traverser une crise existentielle. Une crise qui met e
 n jeu le Je, le Soi et les Autres. \nPar Véronique SORRENTINO Entré
 e gratuite, merci de confirmer votre présence.\n\nPour plus d'informa
 tion, aller sur https://epanews.fr/events/conf-rence-synergie-bien-tre
 -et-travail-sur-soi-1
DTSTART;TZID=Europe/Paris:20150123T000000
DTEND;TZID=Europe/Paris:20150123T235900
CATEGORIES:13
LOCATION:Centre de Psychologie Bien-être et Santé
WEBSITE:http://www.connaissanceetsavoir.com
URL:http://www.connaissanceetsavoir.com
CONTACT:06 17 21 36 95
ORGANIZER;CN="Véronique SORRENTINO":https://epanews.fr/profile/Connai
 ssanceetSavoir
ATTACH;FMTTYPE="image/jpeg":http://storage.ning.com/topology/rest/1.0/
 file/get/1663254278?profile=original
ATTENDEE;ROLE=REQ-PARTICIPANT;PARTSTAT=ACCEPTED;RSVP=TRUE;CN=fito:http
 s://epanews.fr/profile/fito
ATTENDEE;ROLE=REQ-PARTICIPANT;PARTSTAT=ACCEPTED;RSVP=TRUE;CN="Véroniq
 ue SORRENTINO":https://epanews.fr/profile/ConnaissanceetSavoir
ATTENDEE;ROLE=REQ-PARTICIPANT;PARTSTAT=TENTATIVE;RSVP=TRUE;CN=virginie
 :https://epanews.fr/profile/virginie115
ATTENDEE;ROLE=REQ-PARTICIPANT;PARTSTAT=TENTATIVE;RSVP=TRUE;CN=corinne3
 34:https://epanews.fr/profile/corinne334
ATTENDEE;ROLE=REQ-PARTICIPANT;PARTSTAT=TENTATIVE;RSVP=TRUE;CN=Sandrine
 :https://epanews.fr/profile/Sandy57
END:VEVENT
END:VCALENDAR
