BEGIN:VCALENDAR
PRODID:NingEventWidget-v1
VERSION:2.0
METHOD:PUBLISH
BEGIN:VTIMEZONE
TZID:Europe/Paris
X-LIC-LOCATION:Europe/Paris
BEGIN:DAYLIGHT
TZOFFSETFROM:+0100
TZOFFSETTO:+0200
TZNAME:CEST
DTSTART:19700329T020000
RRULE:FREQ=YEARLY;BYMONTH=3;BYDAY=-1SU
END:DAYLIGHT
BEGIN:STANDARD
TZOFFSETFROM:+0200
TZOFFSETTO:+0100
TZNAME:CET
DTSTART:19701025T030000
RRULE:FREQ=YEARLY;BYMONTH=10;BYDAY=-1SU
END:STANDARD
END:VTIMEZONE
BEGIN:VEVENT
UID:2485226:Event:1138376
DTSTAMP:20260421T155138Z
SUMMARY:ConfÃ©rence sur Sri TathÃ¢ta
DESCRIPTION:Manohar et Preeta, ayant Ã©tÃ© en Inde, dans l'ashram de S
 ri TathÃ¢ta vous propose :\n- une projection duÂ film Â« Sri TathÃ¢ta,
  un message pour le monde Â»\n- PrÃ©sentation duÂ MahaYaga, grande cÃ©
 rÃ©monie d'une ampleur exceptionnelle, pour laÂ PaixÂ universellequi a
 ura lieu en fÃ©vrier 2014 en Inde,\n- Partage deÂ leurs expÃ©riencesÂ 
 auprÃ¨s de ce grand Ãªtre\n- uneÂ mÃ©ditationÂ oÃ¹ nous nous relierons
  Ã  lâ€™Ã©nergie universelle.\nTarif : 10â‚¬\nÂ Sri TathÃ¢taÂ est un Ã
 ªtre divin, messager du Dharma (Dharma : vie en harmonie avec lâ€™ordr
 e universel).\nOriginaire du KÃ©rala, au sud de lâ€™Inde, il est porte
 ur dâ€™une trÃ¨s haute conscience cosmique.\nIl propose un Enseignemen
 t et des Initiations qui nous permettent dâ€™enlever les barriÃ¨res qu
 i sont en nous et dâ€™Ã©lever notre conscience, afin de vivre une vie 
 harmonieuse et remplie de bonheur.\nÂ« Mon travail et de rÃ©veiller lâ
 €™HumanitÃ©, de rÃ©veiller la vÃ©ritÃ© qui sommeille en elle et de lâ€
 ™aider Ã  atteindre son niveau le plus grand Â»\nCitation extraite du 
 film Â« message pour le monde Â»\n\nPour plus d'information, aller sur
  https://epanews.fr/events/conf-rence-sur-sri-tath-ta
DTSTART;TZID=Europe/Paris:20130207T193000
DTEND;TZID=Europe/Paris:20130207T213000
CATEGORIES:75
LOCATION:Forum 104 - Salle marronniers
WEBSITE:http://www.expansiondeconscience.org
URL:http://www.expansiondeconscience.org
CONTACT:06 31 53 87 24
ORGANIZER;CN=musiqueclemennt:https://epanews.fr/profile/musiqueclemenn
 t
ATTACH;FMTTYPE="image/jpeg":http://storage.ning.com/topology/rest/1.0/
 file/get/1662744123?profile=original
ATTENDEE;ROLE=REQ-PARTICIPANT;PARTSTAT=ACCEPTED;RSVP=TRUE;CN=musiquecl
 emennt:https://epanews.fr/profile/musiqueclemennt
END:VEVENT
END:VCALENDAR
