BEGIN:VCALENDAR
PRODID:NingEventWidget-v1
VERSION:2.0
METHOD:PUBLISH
BEGIN:VTIMEZONE
TZID:Europe/Paris
X-LIC-LOCATION:Europe/Paris
BEGIN:DAYLIGHT
TZOFFSETFROM:+0100
TZOFFSETTO:+0200
TZNAME:CEST
DTSTART:19700329T020000
RRULE:FREQ=YEARLY;BYMONTH=3;BYDAY=-1SU
END:DAYLIGHT
BEGIN:STANDARD
TZOFFSETFROM:+0200
TZOFFSETTO:+0100
TZNAME:CET
DTSTART:19701025T030000
RRULE:FREQ=YEARLY;BYMONTH=10;BYDAY=-1SU
END:STANDARD
END:VTIMEZONE
BEGIN:VEVENT
UID:2485226:Event:717879
DTSTAMP:20260423T173628Z
SUMMARY:ConfĂ©rence sur les fleurs de Bach /Gestion du stress et des Ă
 ©motions
DESCRIPTION:Bonjour,   ConseillĂ¨re en fleurs de Bach Ă  la Croix-Rous
 se, je vous invite Ă  dĂ©couvrir ou mieux connaĂ®tre cette mĂ©thode si
 mple et naturelle dâ€™harmonisation des Ă©tats Ă©motionnels perturbant
 s.  - Qui Ă©tait le Docteur Bach ? Que sont les fleurs de Bach, commen
 t agissent-elles, dans quelles situations les utiliser ? - Comment uti
 liser les Fleurs de Bach ? Comment les choisir ? Quel est le rĂ´le du 
 conseiller en fleurs de Bach ? - Comment utiliser le Rescue Remedy ?  
 Un temps de rĂ©ponses Ă  vos questions clĂ´turera la confĂ©rence.  La 
 confĂ©rence se dĂ©roulera au salon de thĂ© Chouchou ThĂ© Ă  la Croix-R
 ousse dans un cadre agrĂ©able et convivial. 130 bd de la Croix Rousse,
  69001 Lyon.  Lâ€™entrĂ©e est de 5â‚¬ Des collations sucrĂ©es ou salĂ©
 es pourront vous ĂŞtre servies, si vous le souhaitez.  Je vous remerci
 e de me confirmer votre prĂ©sence par tĂ©lĂ©phone : 04 26 00 95 80 ou 
 06 83 93 70 86 ou sur facebook https://www.facebook.com/events/3387252
 46163437/ ou sur mon site http://www.fleurs-de-bach-lyon.com/7-eveneme
 nts-fleurs-de-bach.php\n  Au plaisir de vous rencontrer\n\nPour plus d
 'information, aller sur https://epanews.fr/events/conf-rence-sur-les-f
 leurs-de-bach-gestion-du-stress-et-des-2
DTSTART;TZID=Europe/Paris:20120321T193000
DTEND;TZID=Europe/Paris:20120321T203000
CATEGORIES:69
LOCATION:Lyon
WEBSITE:
URL:
CONTACT:
ORGANIZER;CN="ConseillĂ¨re  Fleurs de Bach":https://epanews.fr/profile
 /ConseillereFleursdeBach
ATTACH;FMTTYPE="image/jpeg":http://storage.ning.com/topology/rest/1.0/
 file/get/1662569138?profile=original
ATTENDEE;ROLE=REQ-PARTICIPANT;PARTSTAT=ACCEPTED;RSVP=TRUE;CN="Conseill
 Ă¨re  Fleurs de Bach":https://epanews.fr/profile/ConseillereFleursdeBa
 ch
END:VEVENT
END:VCALENDAR
