BEGIN:VCALENDAR
PRODID:NingEventWidget-v1
VERSION:2.0
METHOD:PUBLISH
BEGIN:VTIMEZONE
TZID:Europe/Paris
X-LIC-LOCATION:Europe/Paris
BEGIN:DAYLIGHT
TZOFFSETFROM:+0100
TZOFFSETTO:+0200
TZNAME:CEST
DTSTART:19700329T020000
RRULE:FREQ=YEARLY;BYMONTH=3;BYDAY=-1SU
END:DAYLIGHT
BEGIN:STANDARD
TZOFFSETFROM:+0200
TZOFFSETTO:+0100
TZNAME:CET
DTSTART:19701025T030000
RRULE:FREQ=YEARLY;BYMONTH=10;BYDAY=-1SU
END:STANDARD
END:VTIMEZONE
BEGIN:VEVENT
UID:2485226:Event:2756270
DTSTAMP:20260421T124911Z
SUMMARY:Conférence sur les chakras
DESCRIPTION:Dans cette conférence j'aborderai les différents chakras
  principaux et leur fonctionnement ainsi que des astuces pour les nour
 rir et les renforcer au quotidien. Une méditation guidée d'harmonisa
 tion des chakras est prévu en fin de conférence.  Lieu : Espace Corp
 s Esprit Quartier Ecusson Proche Eglise Saint Roch 11, Rue Jules Latre
 ilhe 34000 Montpellier Place Saint-Côme, bar irlandais le Fitzpatrick
 s qui fait l'angle, descendre la rue où il y a des restaurants, c'est
  dans cette rue. https://www.facebook.com/EspaceCorpsEsprit/about/ htt
 p://www.espace-corps-esprit.net/  Tarif : gratuit  Pour plus d'informa
 tion vous pouvez me contacter : contact@inspirelavie.com ou 06 26 33 1
 6 22 https://www.facebook.com/inspirelavie/?ref=bookmarks www.inspirel
 avie.com\n\nPour plus d'information, aller sur https://epanews.fr/even
 ts/conf-rence-sur-les-chakras
DTSTART;TZID=Europe/Paris:20170107T180000
DTEND;TZID=Europe/Paris:20170107T200000
CATEGORIES:34
LOCATION:Montpellier
WEBSITE:
URL:
CONTACT:
ORGANIZER;CN=Nathy:https://epanews.fr/profile/Nathy662
ATTACH;FMTTYPE="image/jpeg":http://storage.ning.com/topology/rest/1.0/
 file/get/1663631109?profile=original
ATTENDEE;ROLE=REQ-PARTICIPANT;PARTSTAT=ACCEPTED;RSVP=TRUE;CN=Nathy:htt
 ps://epanews.fr/profile/Nathy662
END:VEVENT
END:VCALENDAR
