BEGIN:VCALENDAR
PRODID:NingEventWidget-v1
VERSION:2.0
METHOD:PUBLISH
BEGIN:VTIMEZONE
TZID:Europe/Paris
X-LIC-LOCATION:Europe/Paris
BEGIN:DAYLIGHT
TZOFFSETFROM:+0100
TZOFFSETTO:+0200
TZNAME:CEST
DTSTART:19700329T020000
RRULE:FREQ=YEARLY;BYMONTH=3;BYDAY=-1SU
END:DAYLIGHT
BEGIN:STANDARD
TZOFFSETFROM:+0200
TZOFFSETTO:+0100
TZNAME:CET
DTSTART:19701025T030000
RRULE:FREQ=YEARLY;BYMONTH=10;BYDAY=-1SU
END:STANDARD
END:VTIMEZONE
BEGIN:VEVENT
UID:2485226:Event:1347998
DTSTAMP:20260421T155526Z
SUMMARY:ConfÃ©rence sur le RÃ©fÃ©rentiel de Naissance
DESCRIPTION:Afin de comprendre l'importance des messages que nous dÃ©l
 ivrent les cartes du Tarot de Marseille, nous ferons l'Ã©tude du RÃ©fÃ
 ©rentiel de Marilyn Monroe, dont tout le monde connait l'histoire de s
 a vie.\nSur rÃ©servation: 06 17 46 71 13\n\nPour plus d'information, a
 ller sur https://epanews.fr/events/conf-rence-sur-le-r-f-rentiel-de-na
 issance
DTSTART;TZID=Europe/Paris:20130613T201500
DTEND;TZID=Europe/Paris:20130613T223000
CATEGORIES:69
LOCATION:2 rue de Thou 69001 Lyon
WEBSITE:
URL:
CONTACT:
ORGANIZER;CN="PICCOLI EVELYNE":https://epanews.fr/profile/PICCOLIEVELY
 NE
ATTACH;FMTTYPE="image/jpeg":
ATTENDEE;ROLE=REQ-PARTICIPANT;PARTSTAT=ACCEPTED;RSVP=TRUE;CN="PICCOLI 
 EVELYNE":https://epanews.fr/profile/PICCOLIEVELYNE
END:VEVENT
END:VCALENDAR
