BEGIN:VCALENDAR
PRODID:NingEventWidget-v1
VERSION:2.0
METHOD:PUBLISH
BEGIN:VTIMEZONE
TZID:Europe/Paris
X-LIC-LOCATION:Europe/Paris
BEGIN:DAYLIGHT
TZOFFSETFROM:+0100
TZOFFSETTO:+0200
TZNAME:CEST
DTSTART:19700329T020000
RRULE:FREQ=YEARLY;BYMONTH=3;BYDAY=-1SU
END:DAYLIGHT
BEGIN:STANDARD
TZOFFSETFROM:+0200
TZOFFSETTO:+0100
TZNAME:CET
DTSTART:19701025T030000
RRULE:FREQ=YEARLY;BYMONTH=10;BYDAY=-1SU
END:STANDARD
END:VTIMEZONE
BEGIN:VEVENT
UID:2485226:Event:2186566
DTSTAMP:20260422T140333Z
SUMMARY:Conférence sur le coaching mediumnique
DESCRIPTION:\n Conférence à la librairie \"L'initié\" à Aix en Pr
 ovence\nLa librairie L'initié organise deux journées Portes Ouvertes
  les 17 et 18 janvier 2015, au cours desquelles différents intervenan
 ts feront des conférences et des démonstrations gratuites.\nJ'interv
 iendrai personnellement le samedi 17 à 10 H 15 sur le sujet suivant 
 :\n \nQu’est ce que le Coaching médiumnique ?\nEtant Psychanalyste
  de formation et en même temps medium, j’utilise la voyance pour ga
 gner du temps dans la connaissance de soi, sans passer par une longue 
 analyse, afin de permettre aux personnes en difficulté, de découvrir
  comment poursuivre leur chemin d’évolution.\nEn début d'après mi
 di (à partir de 14 h) je ferai des démonstrations individuelles sur 
 la mediumnité et le développement de l'intuition.\nLes autres confé
 rences :\nVoici le programme complet de ces journées : Journées Por
 tes Ouvertes\nPossibilité de grignoter quelque chose sur place...\nCa
 r la librairie abrite en ses murs un espace café-resto\nComment veni
 r : Infos pratiques\n\n\nPour plus d'information, aller sur https://e
 panews.fr/events/conf-rence-sur-le-coaching-mediumnique
DTSTART;TZID=Europe/Paris:20150117T100000
DTEND;TZID=Europe/Paris:20150117T110000
CATEGORIES:13, 84, 04
LOCATION:Puyricard
WEBSITE:https://www.google.fr/maps/place/6110+Route+d'Avignon,+13540+A
 ix-en-Provence/@43.5849358,5.3715204,17z/data=!3m1!4b1!4m2!3m1!1s0x12c
 9f36095386a03:0xd4abed555ffecf89?hl=fr
URL:https://www.google.fr/maps/place/6110+Route+d'Avignon,+13540+Aix-e
 n-Provence/@43.5849358,5.3715204,17z/data=!3m1!4b1!4m2!3m1!1s0x12c9f36
 095386a03:0xd4abed555ffecf89?hl=fr
CONTACT:04 42 28 65 28
ORGANIZER:Librairie L'initié
ATTACH;FMTTYPE="image/jpeg":http://storage.ning.com/topology/rest/1.0/
 file/get/1663306752?profile=original
ATTENDEE;ROLE=REQ-PARTICIPANT;PARTSTAT=ACCEPTED;RSVP=TRUE;CN="Marye me
 dium":https://epanews.fr/profile/Genoudduvillaret
END:VEVENT
END:VCALENDAR
