BEGIN:VCALENDAR
PRODID:NingEventWidget-v1
VERSION:2.0
METHOD:PUBLISH
BEGIN:VTIMEZONE
TZID:Europe/Paris
X-LIC-LOCATION:Europe/Paris
BEGIN:DAYLIGHT
TZOFFSETFROM:+0100
TZOFFSETTO:+0200
TZNAME:CEST
DTSTART:19700329T020000
RRULE:FREQ=YEARLY;BYMONTH=3;BYDAY=-1SU
END:DAYLIGHT
BEGIN:STANDARD
TZOFFSETFROM:+0200
TZOFFSETTO:+0100
TZNAME:CET
DTSTART:19701025T030000
RRULE:FREQ=YEARLY;BYMONTH=10;BYDAY=-1SU
END:STANDARD
END:VTIMEZONE
BEGIN:VEVENT
UID:2485226:Event:2649096
DTSTAMP:20260421T040407Z
SUMMARY:conférence sur la plexus solaire focntionnement et solutions
DESCRIPTION:Conférence\nAnimée par Christophe Dacier. (Réservation 
 nécessaire)\nAu Forum 104, 104 rue de Vaugirard, 75006 Paris\nLe plex
 us solaire\ns’affirmer en douce puissance, ses dysfonctionnements et
  les solutions\nCouleur, taille, forme, structure\nLe vendredi  3 jui
 n 2016 - 19h30 Salle Iris\npaf : 10 €\nRéservations nécessaires p
 ar téléphone ou mail pour les conférences.\nRenseignements et rése
 rvations pour des consultations (du vendredi au lundi avant et après 
 la conférence) au  06 12 19 91 41 – cdacier@free.fr\n\nPour plus d
 'information, aller sur https://epanews.fr/events/conf-rence-sur-la-pl
 exus-solaire-focntionnement-et-solutions
DTSTART;TZID=Europe/Paris:20160603T193000
DTEND;TZID=Europe/Paris:20160603T213000
CATEGORIES:75
LOCATION:forum 104
WEBSITE:
URL:
CONTACT:0612199141
ORGANIZER;CN="Christophe Dacier":https://epanews.fr/profile/Christophe
 Dacier
ATTACH;FMTTYPE="image/jpeg":http://storage.ning.com/topology/rest/1.0/
 file/get/1663569694?profile=original
ATTENDEE;ROLE=REQ-PARTICIPANT;PARTSTAT=ACCEPTED;RSVP=TRUE;CN="Christop
 he Dacier":https://epanews.fr/profile/ChristopheDacier
END:VEVENT
END:VCALENDAR
