BEGIN:VCALENDAR
PRODID:NingEventWidget-v1
VERSION:2.0
METHOD:PUBLISH
BEGIN:VTIMEZONE
TZID:Europe/Paris
X-LIC-LOCATION:Europe/Paris
BEGIN:DAYLIGHT
TZOFFSETFROM:+0100
TZOFFSETTO:+0200
TZNAME:CEST
DTSTART:19700329T020000
RRULE:FREQ=YEARLY;BYMONTH=3;BYDAY=-1SU
END:DAYLIGHT
BEGIN:STANDARD
TZOFFSETFROM:+0200
TZOFFSETTO:+0100
TZNAME:CET
DTSTART:19701025T030000
RRULE:FREQ=YEARLY;BYMONTH=10;BYDAY=-1SU
END:STANDARD
END:VTIMEZONE
BEGIN:VEVENT
UID:2485226:Event:1343503
DTSTAMP:20260421T214533Z
SUMMARY:confÃ©rence sur la mÃ©thode Free Moon
DESCRIPTION:Nous vous prÃ©senterons autour d'un verre la mÃ©thode que 
 nous proposons en stages, ainsi que notre parcours. Quels sont les bie
 nfaits de free Moon? A qui s'adresse cette mÃ©thode? L'importance d'Ãª
 tre Ã  l'Ã©coute de son cycle menstruel. Pourquoi rÃ©adapter des techn
 iques ancestrales Ã  notre mode de vie actuel? Nous vous proposerons e
 n fin de confÃ©rence une mÃ©ditation et quelques exercices issus de la
  mÃ©thode pour expÃ©rimenter concrÃ¨tement notre univers.\ntarif: 5 â‚
 ¬\nPlus d'infos:Â http://free.moon.free.fr/\n\n\nPour plus d'informati
 on, aller sur https://epanews.fr/events/conf-rence-sur-la-m-thode-free
 -moon-1
DTSTART;TZID=Europe/Paris:20130628T193000
DTEND;TZID=Europe/Paris:20130628T213000
CATEGORIES:35
LOCATION:Resto-Cave \"Un Midi dans les Vignes\"- Rennes
WEBSITE:
URL:
CONTACT:
ORGANIZER;CN="chacun son rythme-julien fihey":https://epanews.fr/profi
 le/chacunsonrythmejulienfihey
ATTACH;FMTTYPE="image/jpeg":http://storage.ning.com/topology/rest/1.0/
 file/get/1662829936?profile=original
ATTENDEE;ROLE=REQ-PARTICIPANT;PARTSTAT=ACCEPTED;RSVP=TRUE;CN="chacun s
 on rythme-julien fihey":https://epanews.fr/profile/chacunsonrythmejuli
 enfihey
END:VEVENT
END:VCALENDAR
