BEGIN:VCALENDAR
PRODID:NingEventWidget-v1
VERSION:2.0
METHOD:PUBLISH
BEGIN:VTIMEZONE
TZID:Europe/Paris
X-LIC-LOCATION:Europe/Paris
BEGIN:DAYLIGHT
TZOFFSETFROM:+0100
TZOFFSETTO:+0200
TZNAME:CEST
DTSTART:19700329T020000
RRULE:FREQ=YEARLY;BYMONTH=3;BYDAY=-1SU
END:DAYLIGHT
BEGIN:STANDARD
TZOFFSETFROM:+0200
TZOFFSETTO:+0100
TZNAME:CET
DTSTART:19701025T030000
RRULE:FREQ=YEARLY;BYMONTH=10;BYDAY=-1SU
END:STANDARD
END:VTIMEZONE
BEGIN:VEVENT
UID:2485226:Event:1401176
DTSTAMP:20260421T200806Z
SUMMARY:Conférence sur la kinésiologie
DESCRIPTION:\n\n\"Le corps parle un langage que le discours ignore\"Ce
 tte conférence abordera la mémoire du corps et sa façon de communiq
 uer. Notre corps garde la mémoire de chaque pensée et émotion resse
 ntie qui sont à mettre en lien avec nos maux/mots. Nous possédons to
 us des capacités naturelles de guérison que la kinésiologie permet 
 de révéler.La Conférence aura lieu au Centre du Mont, 8 rue des 3 f
 rères Barthélémy, 13006 MarseilleTarif normal : 8€, Tarif préfé
 rentiel de 5€ grâce à cette invitation.Pré-inscription préalable
  souhaitée, places limitées.Pour plus d'informations, vous pouvez ap
 peler le Centre du Mont au 04 91 482 991\n\n\n\n\nPour plus d'informat
 ion, aller sur https://epanews.fr/events/conf-rence-sur-la-kin-siologi
 e
DTSTART;TZID=Europe/Paris:20130619T193000
DTEND;TZID=Europe/Paris:20130619T210000
CATEGORIES:13
LOCATION:Centre du Mont
WEBSITE:http://therapies-evolutives.blogspot.fr
URL:http://therapies-evolutives.blogspot.fr
CONTACT:04 91 482 991
ORGANIZER;CN="Emilie Barelier":https://epanews.fr/profile/EmilieBareli
 er
ATTACH;FMTTYPE="image/jpeg":http://storage.ning.com/topology/rest/1.0/
 file/get/1662857341?profile=original
ATTENDEE;ROLE=REQ-PARTICIPANT;PARTSTAT=ACCEPTED;RSVP=TRUE;CN=VERGER:ht
 tps://epanews.fr/profile/VERGER
ATTENDEE;ROLE=REQ-PARTICIPANT;PARTSTAT=ACCEPTED;RSVP=TRUE;CN="Emilie B
 arelier":https://epanews.fr/profile/EmilieBarelier
ATTENDEE;ROLE=REQ-PARTICIPANT;PARTSTAT=TENTATIVE;RSVP=TRUE;CN=nightwis
 h:https://epanews.fr/profile/nightwish
END:VEVENT
END:VCALENDAR
