BEGIN:VCALENDAR
PRODID:NingEventWidget-v1
VERSION:2.0
METHOD:PUBLISH
BEGIN:VTIMEZONE
TZID:Europe/Paris
X-LIC-LOCATION:Europe/Paris
BEGIN:DAYLIGHT
TZOFFSETFROM:+0100
TZOFFSETTO:+0200
TZNAME:CEST
DTSTART:19700329T020000
RRULE:FREQ=YEARLY;BYMONTH=3;BYDAY=-1SU
END:DAYLIGHT
BEGIN:STANDARD
TZOFFSETFROM:+0200
TZOFFSETTO:+0100
TZNAME:CET
DTSTART:19701025T030000
RRULE:FREQ=YEARLY;BYMONTH=10;BYDAY=-1SU
END:STANDARD
END:VTIMEZONE
BEGIN:VEVENT
UID:2485226:Event:2204827
DTSTAMP:20260426T042520Z
SUMMARY:ConfÃ©rence sur la guÃ©rison par voie spirituelle
DESCRIPTION:Une ConfÃ©rence dâ€™information sur lâ€™aide et la guÃ©ris
 on par voie spirituelle selon lâ€™enseignement de Bruno GrÃ¶ning. Des 
 guÃ©risons vÃ©rifiÃ©es et documentÃ©es par des mÃ©decins indÃ©pendants
  prouvent la vÃ©racitÃ© des paroles de Bruno GrÃ¶ning: Â« Il nâ€™y a p
 as dâ€™incurable â€“ Dieu est le plus grand mÃ©decin !Â»\nLes guÃ©riso
 ns extraordinaires, lorsquâ€™elles surviennent par voie spirituelle, s
 ont considÃ©rÃ©es par beaucoup de mÃ©decins avec scepticisme. Pourtant
 , on observe que de plus en plus de personnes reÃ§oivent la guÃ©rison 
 par la rÃ©ception de la force curative, mÃªme de maux incurables et de
  dÃ©pendances physiques et psychiques.\nToutes les personnes intÃ©ress
 Ã©es sont cordialement invitÃ©es.\nEntrÃ©e et participation aux frais,
  libres, les dons sont les bienvenus.\nConfÃ©rencierÂ : Docteur G. BlÃ
 ¤ttner â€“ O.R.L.\nVendredi 13 fÃ©vrier 2015 Ã  19 heures\nContact: Â 
 TÃ©l.: 03 20 37 94 36 ou 06 78 80 32 44\nEmail: benedicte.crepin@hotma
 il.fr\nDe lâ€™information supplÃ©mentaire et un aperÃ§u de 200 rÃ©sumÃ
 ©s de rapports de guÃ©rison classÃ©s en fonction du diagnostic est dis
 ponible sur Internet Ã  :\nhttp://www.bruno-groening.org/francais\n\nP
 our plus d'information, aller sur https://epanews.fr/events/conf-rence
 -sur-la-gu-rison-par-voie-spirituelle
DTSTART;TZID=Europe/Paris:20150213T190000
DTEND;TZID=Europe/Paris:20150213T210000
CATEGORIES:62
LOCATION:Inter-HÃ´tel Liberty - Parc de la Porte Nord
WEBSITE:http://www.bruno-groening.org/francais
URL:http://www.bruno-groening.org/francais
CONTACT:
ORGANIZER;CN=Partage:https://epanews.fr/profile/Partage
ATTACH;FMTTYPE="image/jpeg":http://storage.ning.com/topology/rest/1.0/
 file/get/1663316611?profile=original
ATTENDEE;ROLE=REQ-PARTICIPANT;PARTSTAT=ACCEPTED;RSVP=TRUE;CN=Partage:h
 ttps://epanews.fr/profile/Partage
END:VEVENT
END:VCALENDAR
