BEGIN:VCALENDAR
PRODID:NingEventWidget-v1
VERSION:2.0
METHOD:PUBLISH
BEGIN:VTIMEZONE
TZID:Europe/Paris
X-LIC-LOCATION:Europe/Paris
BEGIN:DAYLIGHT
TZOFFSETFROM:+0100
TZOFFSETTO:+0200
TZNAME:CEST
DTSTART:19700329T020000
RRULE:FREQ=YEARLY;BYMONTH=3;BYDAY=-1SU
END:DAYLIGHT
BEGIN:STANDARD
TZOFFSETFROM:+0200
TZOFFSETTO:+0100
TZNAME:CET
DTSTART:19701025T030000
RRULE:FREQ=YEARLY;BYMONTH=10;BYDAY=-1SU
END:STANDARD
END:VTIMEZONE
BEGIN:VEVENT
UID:2485226:Event:2324233
DTSTAMP:20260422T055006Z
SUMMARY:Conférence sur la guérison par voie spirituelle - clé de la
  santé de demain
DESCRIPTION:Une Conférence d’information sur l’aide et la guéris
 on par voie spirituelle selon l’enseignement de Bruno Gröning. Des 
 guérisons vérifiées et documentées par des médecins indépendants
  prouvent la véracité des paroles de Bruno Gröning: « Il n’y a p
 as d’incurable – Dieu est le plus grand médecin !» Les guériso
 ns extraordinaires, lorsqu’elles surviennent par voie spirituelle, s
 ont considérées par beaucoup de médecins avec scepticisme. Pourtant
 , on observe que de plus en plus de personnes reçoivent la guérison 
 par la réception de la force curative, même de maux incurables et de
  dépendances physiques et psychiques. Toutes les personnes intéress
 ées sont cordialement invitées. Entrée et participation aux frais,
  libres, les dons sont les bienvenus. Conférencier: Dr R. WylerTél.
 : 0033 – (0)6 86 91 66 39courriel: france@bruno-groening.orgInternet
 : http://www.bruno-groening.org/francais Espace Tully - Amphithéatr
 e8, avenue des Abattoirs74200 Thonon-les-Bains\n \n\n\n\nPour plus d'
 information, aller sur https://epanews.fr/events/conf-rence-sur-la-gu-
 rison-par-voie-spirituelle-cl-de-la-sant-d-1
DTSTART;TZID=Europe/Paris:20150529T193000
DTEND;TZID=Europe/Paris:20150529T210000
CATEGORIES:74
LOCATION:Espace Tully - Amphithéatre
WEBSITE:http://www.bruno-groening.org/francais
URL:http://www.bruno-groening.org/francais
CONTACT:
ORGANIZER;CN=Partage:https://epanews.fr/profile/Partage
ATTACH;FMTTYPE="image/jpeg":http://storage.ning.com/topology/rest/1.0/
 file/get/1663393940?profile=original
ATTENDEE;ROLE=REQ-PARTICIPANT;PARTSTAT=ACCEPTED;RSVP=TRUE;CN=Partage:h
 ttps://epanews.fr/profile/Partage
END:VEVENT
END:VCALENDAR
