BEGIN:VCALENDAR
PRODID:NingEventWidget-v1
VERSION:2.0
METHOD:PUBLISH
BEGIN:VTIMEZONE
TZID:Europe/Paris
X-LIC-LOCATION:Europe/Paris
BEGIN:DAYLIGHT
TZOFFSETFROM:+0100
TZOFFSETTO:+0200
TZNAME:CEST
DTSTART:19700329T020000
RRULE:FREQ=YEARLY;BYMONTH=3;BYDAY=-1SU
END:DAYLIGHT
BEGIN:STANDARD
TZOFFSETFROM:+0200
TZOFFSETTO:+0100
TZNAME:CET
DTSTART:19701025T030000
RRULE:FREQ=YEARLY;BYMONTH=10;BYDAY=-1SU
END:STANDARD
END:VTIMEZONE
BEGIN:VEVENT
UID:2485226:Event:1380028
DTSTAMP:20260422T193323Z
SUMMARY:Conférence sur la Cellulite : quelles solutions aromatiques ?
DESCRIPTION:Je vous propose de participer à une conférence sur le th
 ème : cellulite et huiles essentielles.\nElle se déroulera le vendre
 di 7 juin de 19h30 à 20h30.\nSavez vous que des eaux florales peuvent
  être efficaces ? Que plus de 10 huiles essentielles peuvent vous ai
 der ? Lesquelles et comment ?\nJe vous donnerai des solutions simple
 s à mettre en œuvre.\nParticipation : 7 €\n\nPour plus d'informat
 ion, aller sur https://epanews.fr/events/conf-rence-sur-la-cellulite-q
 uelles-solutions-aromatiques
DTSTART;TZID=Europe/Paris:20130528T193000
DTEND;TZID=Europe/Paris:20130528T203000
CATEGORIES:83
LOCATION:Centre Canathéa, 91 avenue Eugène Joly, 83600 Fréjus
WEBSITE:
URL:
CONTACT:
ORGANIZER;CN="LEMOINE ISABELLE":https://epanews.fr/profile/LEMOINEISAB
 ELLE
ATTACH;FMTTYPE="image/jpeg":http://storage.ning.com/topology/rest/1.0/
 file/get/1662845419?profile=original
ATTENDEE;ROLE=REQ-PARTICIPANT;PARTSTAT=ACCEPTED;RSVP=TRUE;CN="LEMOINE 
 ISABELLE":https://epanews.fr/profile/LEMOINEISABELLE
END:VEVENT
END:VCALENDAR
