BEGIN:VCALENDAR
PRODID:NingEventWidget-v1
VERSION:2.0
METHOD:PUBLISH
BEGIN:VTIMEZONE
TZID:Europe/Paris
X-LIC-LOCATION:Europe/Paris
BEGIN:DAYLIGHT
TZOFFSETFROM:+0100
TZOFFSETTO:+0200
TZNAME:CEST
DTSTART:19700329T020000
RRULE:FREQ=YEARLY;BYMONTH=3;BYDAY=-1SU
END:DAYLIGHT
BEGIN:STANDARD
TZOFFSETFROM:+0200
TZOFFSETTO:+0100
TZNAME:CET
DTSTART:19701025T030000
RRULE:FREQ=YEARLY;BYMONTH=10;BYDAY=-1SU
END:STANDARD
END:VTIMEZONE
BEGIN:VEVENT
UID:2485226:Event:1888696
DTSTAMP:20260421T232556Z
SUMMARY:ConfÃ©rence sur l'EnergÃ©tique traditionnelle chinoise
DESCRIPTION:Une alternative thÃ©rapeutiqueÂ ?\nDÃ©couvrez la MÃ©decine
  Traditionnelle Chinoise avec un complÃ©ment sur la diÃ©tÃ©tique de la
  saison le 19 juin de 19h30 Ã  21h.Â \nLa mÃ©decine traditionnelle chi
 noise, pratiquÃ©e depuis de plus de 5000 ans, est faite dâ€™une accumu
 lation dâ€™observations empiriques et de larges expÃ©rimentations.\nSa
  philosophieÂ : lâ€™homme est un Ã©lÃ©ment du cosmos placÃ© entre Ciel
  et Terre. Lâ€˜Ãªtre humain est considÃ©rÃ© dans sa globalitÃ©.\nA lâ€
 ™image de la terre, de ses cours dâ€™eau et de ses montagnes, des lign
 es de mÃ©ridiens parcourent le corps humain Ã  l'intÃ©rieur desquelles
  circule une Ã©nergie vitale (Qi).\nLorsque des dÃ©sÃ©quilibres Ã©nerg
 Ã©tiques apparaissent, des douleurs ou blocages se font ressentir, le 
 corps nous parle. Curative et prÃ©ventive, elle vise Ã  maintenir lâ€˜
 harmonie de votre Ã©nergie en renforÃ§ant lâ€˜organisme. Vous dÃ©couvr
 irez lors de la confÃ©rence les diffÃ©rents outils utilisÃ©s dans cett
 e thÃ©rapeutique. L'harmonie Ã©nergÃ©tique est toujours l'objectif fin
 al.\nInscription au 06 11 54 70 06. Tarif 5 euros\n\nPour plus d'infor
 mation, aller sur https://epanews.fr/events/conf-rence-sur-l-energ-tiq
 ue-traditionnelle-chinoise
DTSTART;TZID=Europe/Paris:20140619T193000
DTEND;TZID=Europe/Paris:20140619T210000
CATEGORIES:06
LOCATION:Cannes
WEBSITE:http://www.therapiesmanuelles06.com
URL:http://www.therapiesmanuelles06.com
CONTACT:0611547006
ORGANIZER;CN=jguilhaume:https://epanews.fr/profile/jguilhaume
ATTACH;FMTTYPE="image/jpeg":http://storage.ning.com/topology/rest/1.0/
 file/get/1663119154?profile=original
ATTENDEE;ROLE=REQ-PARTICIPANT;PARTSTAT=ACCEPTED;RSVP=TRUE;CN=jguilhaum
 e:https://epanews.fr/profile/jguilhaume
END:VEVENT
END:VCALENDAR
