BEGIN:VCALENDAR
PRODID:NingEventWidget-v1
VERSION:2.0
METHOD:PUBLISH
BEGIN:VTIMEZONE
TZID:Europe/Paris
X-LIC-LOCATION:Europe/Paris
BEGIN:DAYLIGHT
TZOFFSETFROM:+0100
TZOFFSETTO:+0200
TZNAME:CEST
DTSTART:19700329T020000
RRULE:FREQ=YEARLY;BYMONTH=3;BYDAY=-1SU
END:DAYLIGHT
BEGIN:STANDARD
TZOFFSETFROM:+0200
TZOFFSETTO:+0100
TZNAME:CET
DTSTART:19701025T030000
RRULE:FREQ=YEARLY;BYMONTH=10;BYDAY=-1SU
END:STANDARD
END:VTIMEZONE
BEGIN:VEVENT
UID:2485226:Event:1954608
DTSTAMP:20260422T224942Z
SUMMARY:ConfÃ©rence sur l'eau, \"Toutes les eaux que nous buvons ne se
  valent pas\"
DESCRIPTION:CONFÃ‰RENCE SUR L'EAUÂ Â Â Â Â  *** ConfÃ©rence gratuite *
 **\n\"TOUTES LES EAUX QUE NOUS BUVONS NE SE VALENT PAS\"Suite Ã  un ex
 emple concret, tout simplement le fait de voir ma maman Ã  10h du mati
 n avant de boire cette eau, et de voir Ã  16h la diffÃ©rence de sa pea
 u aprÃ¨s avoir bu cette eau toute la journÃ©e. Le pouvoir hydratant de
  cette eau est incontestable, sans compter les changements que ma mama
 n a ressenti dans son corps, ses organes, articulations ...D'oÃ¹ mon e
 nvie de vous faire partager cette expÃ©rience. J'organise cette confÃ©
 rence pour toutes les personnes qui se posent des questions sur l'eau 
 que nous buvons. Faut-il boire l'eau du robinet ? Celle en bouteille ?
  ... C'est une confÃ©rence d'information, aucune obligation de votre c
 Ã´tÃ©. A vous ensuite, de faire votre propre jugement. Lâ€™eau est tou
 t de mÃªme un Ã©lÃ©ment essentiel Ã  la vie. Notre corps est constituÃ
 © Ã  70% dâ€™eau, dâ€™oÃ¹ lâ€™importance de lui apporter une eau de qu
 alitÃ©. Malheureusement, toutes les eaux ne se valent pas, venez le dÃ
 ©couvrir avec un professionnel de lâ€™eau qui avec des explications, d
 es cas bien prÃ©cis et divers tÃ©moignages de mÃ©decins Ã  travers le 
 monde, vous dÃ©montrera lâ€™importance et les bienfaits pour votre cor
 ps de cette eau alcaline, antioxydante et ultra hydratante pour vos ce
 llules. Il fera devant vous des tests avec lâ€™eau du robinet, diverse
 s eaux en bouteille et avec une eau filtrÃ©e. Â Nâ€™hÃ©sitez pas Ã  ve
 nir dÃ©couvrir lâ€™importance des propriÃ©tÃ©s de lâ€™eau que nous buv
 ons A lâ€™Espace Bien-Ãªtre & ZenDomaine de la CoudouliÃ¨re158 AllÃ©e 
 Mont Caume83140 Six Fours les Plages (Ã  cÃ´tÃ© de l'agence Foncia anc
 iennement Jomel)Le Samedi 28 juin 2014 Ã  9h30 Â Places limitÃ©es, prÃ
 ©fÃ©rable de rÃ©server. Me contacterStÃ©phanie Silvestre au 06 30 30 7
 5 73 ou par mail silvestrestephanie83@gmail.com\n\nPour plus d'informa
 tion, aller sur https://epanews.fr/events/conf-rence-sur-l-eau-toutes-
 les-eaux-que-nous-buvons-ne-se-vale-1
DTSTART;TZID=Europe/Paris:20140628T213000
DTEND;TZID=Europe/Paris:20140628T233000
CATEGORIES:83
LOCATION:A l'Espace bien-Ãªtre et zen
WEBSITE:
URL:
CONTACT:06 30 30 75 73
ORGANIZER;CN=Fani:https://epanews.fr/profile/Fani
ATTACH;FMTTYPE="image/jpeg":
ATTENDEE;ROLE=REQ-PARTICIPANT;PARTSTAT=ACCEPTED;RSVP=TRUE;CN=Fani:http
 s://epanews.fr/profile/Fani
END:VEVENT
END:VCALENDAR
