BEGIN:VCALENDAR
PRODID:NingEventWidget-v1
VERSION:2.0
METHOD:PUBLISH
BEGIN:VTIMEZONE
TZID:Europe/Paris
X-LIC-LOCATION:Europe/Paris
BEGIN:DAYLIGHT
TZOFFSETFROM:+0100
TZOFFSETTO:+0200
TZNAME:CEST
DTSTART:19700329T020000
RRULE:FREQ=YEARLY;BYMONTH=3;BYDAY=-1SU
END:DAYLIGHT
BEGIN:STANDARD
TZOFFSETFROM:+0200
TZOFFSETTO:+0100
TZNAME:CET
DTSTART:19701025T030000
RRULE:FREQ=YEARLY;BYMONTH=10;BYDAY=-1SU
END:STANDARD
END:VTIMEZONE
BEGIN:VEVENT
UID:2485226:Event:2935355
DTSTAMP:20260423T071515Z
SUMMARY:ConfÃ©rence sur L'ayurvÃ©da
DESCRIPTION:Cette confÃ©rence aura lieu en partie en prÃ©sence de Vayd
 ia Shruti (Docteur diplÃ´mÃ©e en sciences de la mÃ©decine en Inde). Sp
 Ã©cialiste du traitement DÃ©tox Panchakarma et du Naadi Pariksha*) et 
 introduite par un enseignant de \"l'Art de Vivre\" Ã©voluant depuis 10
  ans dans le milieu de l'AyurvÃ©da. L'Ayurveda ou \"Science de la vie\
 " date de plus de 6.000 ans.Â \nBien que ses traitÃ©s et concepts soie
 nt trÃ¨s anciens, ses techniques et bienfaits restent toujours d'actua
 litÃ© et sâ€™avÃ¨rent Ãªtre efficaces pour se maintenir en bonne santÃ
 © ou pour retrouver un Ã©quilibre gÃ©nÃ©ral, de l'Ã©nergie et du confo
 rt de vie. Son principe fondamental rÃ©side dans le fait que chaque Ãª
 tre vivant est composÃ© des 5 Ã©lÃ©ments que sont : l'Eau, le Feu, l'A
 ir, la Terre et l'Ether. En s'associant, ces Ã©lÃ©ments composent des 
 bio-Ã©nergies appelÃ©e Doshas : Vata, Pitta & Kapha. Chacun d'entre eu
 x Ã©tant composÃ© de 2 Ã©lÃ©ments distincts. Chaque individu possÃ¨de 
 une certaine quantitÃ© de chacune de ces Ã©nergies qui lui est propre 
 et qui le rend absolument unique.Â \nCette carte d'identitÃ© Ã©nergÃ©t
 ique l'AyurvÃ©da la nomme \"Constitution\" ou \"Prakriti\". Elle reprÃ
 ©sente notre point d'Ã©quilibre personnel initial, notre Ã©tat naturel
  qu'il faut chercher Ã  maintenir en Ã©quilibre tout au long de notre 
 vie pour conserver notre la pleine santÃ©. La constitution renseigne s
 ur les tendances dâ€™une personne, son caractÃ¨re, sa physiologie, sa 
 morphologie et le rÃ©gime alimentaire qui lui est le plus adaptÃ©.Â \n
 Date : Mardi 13 Mars 2018 de 20h00 Ã  22h00 (comprend une mÃ©ditation 
 guidÃ©e + un temps de questions / rÃ©ponses avec Le Docteur Shruti)Â \
 n\nPour plus d'information, aller sur https://epanews.fr/events/conf-r
 ence-sur-l-ayurv-da-1
DTSTART;TZID=Europe/Paris:20180313T200000
DTEND;TZID=Europe/Paris:20180313T220000
CATEGORIES:11100
LOCATION:L'arc en ciel du partage
WEBSITE:
URL:
CONTACT:0695894969
ORGANIZER:l'arc en ciel du partage
ATTACH;FMTTYPE="image/jpeg":http://storage.ning.com/topology/rest/1.0/
 file/get/1663723104?profile=original
ATTENDEE;ROLE=REQ-PARTICIPANT;PARTSTAT=ACCEPTED;RSVP=TRUE;CN="L'arc en
  ciel du partage":https://epanews.fr/profile/Larcencieldupartage
END:VEVENT
END:VCALENDAR
