BEGIN:VCALENDAR
PRODID:NingEventWidget-v1
VERSION:2.0
METHOD:PUBLISH
BEGIN:VTIMEZONE
TZID:Europe/Paris
X-LIC-LOCATION:Europe/Paris
BEGIN:DAYLIGHT
TZOFFSETFROM:+0100
TZOFFSETTO:+0200
TZNAME:CEST
DTSTART:19700329T020000
RRULE:FREQ=YEARLY;BYMONTH=3;BYDAY=-1SU
END:DAYLIGHT
BEGIN:STANDARD
TZOFFSETFROM:+0200
TZOFFSETTO:+0100
TZNAME:CET
DTSTART:19701025T030000
RRULE:FREQ=YEARLY;BYMONTH=10;BYDAY=-1SU
END:STANDARD
END:VTIMEZONE
BEGIN:VEVENT
UID:2485226:Event:1886255
DTSTAMP:20260424T120237Z
SUMMARY:conférence sur l'aromathérapie
DESCRIPTION:D'où vient l'aromathérapie ? Qu'est ce que c'est ? Qu'es
 t ce que la distillation ? Que peut-on distiller ? Quelle plante utili
 ser ? Qu'est ce qu'un hydrolat ? Comment utiliser les huiles essentiel
 les sans risque dans le cadre familiale ? Quelles huiles utiliser et d
 ans quel but ? Qu'est ce qu'une synergie ? Comment utiliser les hydrol
 ats ?\nParticipation 5€.\n\nPour plus d'information, aller sur https
 ://epanews.fr/events/conf-rence-sur-l-aromath-rapie-1
DTSTART;TZID=Europe/Paris:20140624T183000
DTEND;TZID=Europe/Paris:20140624T203000
CATEGORIES:92, 91
LOCATION:France
WEBSITE:
URL:
CONTACT:0661845093
ORGANIZER;CN="Stéphanie Bertot-Molion":https://epanews.fr/profile/Ste
 phanieBertotMolion
ATTACH;FMTTYPE="image/jpeg":http://storage.ning.com/topology/rest/1.0/
 file/get/1663119889?profile=original
ATTENDEE;ROLE=REQ-PARTICIPANT;PARTSTAT=ACCEPTED;RSVP=TRUE;CN="Stéphan
 ie Bertot-Molion":https://epanews.fr/profile/StephanieBertotMolion
END:VEVENT
END:VCALENDAR
