BEGIN:VCALENDAR
PRODID:NingEventWidget-v1
VERSION:2.0
METHOD:PUBLISH
BEGIN:VTIMEZONE
TZID:Europe/Paris
X-LIC-LOCATION:Europe/Paris
BEGIN:DAYLIGHT
TZOFFSETFROM:+0100
TZOFFSETTO:+0200
TZNAME:CEST
DTSTART:19700329T020000
RRULE:FREQ=YEARLY;BYMONTH=3;BYDAY=-1SU
END:DAYLIGHT
BEGIN:STANDARD
TZOFFSETFROM:+0200
TZOFFSETTO:+0100
TZNAME:CET
DTSTART:19701025T030000
RRULE:FREQ=YEARLY;BYMONTH=10;BYDAY=-1SU
END:STANDARD
END:VTIMEZONE
BEGIN:VEVENT
UID:2485226:Event:1037390
DTSTAMP:20260421T113121Z
SUMMARY:conférence sur ho'oponopono
DESCRIPTION:Ho'oponopono est à la fois une philosophie de la vie et u
 n formidable outil d'évolution personnelle dont les origines remonten
 t probablement à l'Antiquité hawaïenne. Au cours du XXème siècle,
  elle a été reprise et à nouveau développée par la chamane Morrna
 h Simeona, puis par le Dr Hew Len et Joe Vitale.\n A la lecture des e
 xpériences du Dr Hew Len et des résultats obtenus, j’ai moi aussi 
 été intrigué et rempli de doutes, tout comme  Joe Vitale qui racon
 te à son propos, comment il avait entendu parler d’un thérapeute q
 ui avait guéri une salle complète de patients aliénés criminels en
  appliquant cette méthode, sans jamais voir aucun d'eux : « Je sai
 s que cela est difficile à entendre, et encore plus à accepter et à
  vivre vraiment. Le blâme est beaucoup plus facile que la responsabil
 ité totale, mais à mesure que je parlais avec le Dr Len, j'ai commen
 cé à réaliser que la guérison pour lui et dans le Ho'oponopono sig
 nifie s'aimer soi-même. Si vous voulez améliorer votre vie, vous dev
 ez guérir votre vie. Si vous voulez guérir quelqu'un -même un crimi
 nel malade mental -vous le ferez en vous guérissant vous-même. »\n
  En mettant en pratique le Ho’oponopono, je me suis rendu compte de
  la justesse de cette approche qui vise à nous libérer du passé, à
  retrouver notre totale liberté et en assumant la complète responsab
 ilité de tout ce qui est dans notre vie.\n C’est cette connaissanc
 e et expérience du Ho'oponopono tel que je l'ai comprise à travers m
 on propre chemin d'évolution que je souhaite partager avec vous.\nLa 
 paix commence avec moi\nLe nombre de places étant limité à 25 perso
 nnes, merci de réserver.\nLa conférence dure 2 H 00 à 2 H 30, elle 
 démarrera donc à l’heure.\n Participation : 10 €\n\nPour plus 
 d'information, aller sur https://epanews.fr/events/conf-rence-sur-ho-o
 ponopono
DTSTART;TZID=Europe/Paris:20121208T173000
DTEND;TZID=Europe/Paris:20121208T190000
CATEGORIES:75
LOCATION:Paris
WEBSITE:http://maps.google.fr/maps/myplaces
URL:http://maps.google.fr/maps/myplaces
CONTACT:06 06 41 43 90
ORGANIZER;CN="Claude Frigiotti":https://epanews.fr/profile/Frigioman
ATTACH;FMTTYPE="image/jpeg":
ATTENDEE;ROLE=REQ-PARTICIPANT;PARTSTAT=ACCEPTED;RSVP=TRUE;CN="Claude F
 rigiotti":https://epanews.fr/profile/Frigioman
END:VEVENT
END:VCALENDAR
