BEGIN:VCALENDAR
PRODID:NingEventWidget-v1
VERSION:2.0
METHOD:PUBLISH
BEGIN:VTIMEZONE
TZID:Europe/Paris
X-LIC-LOCATION:Europe/Paris
BEGIN:DAYLIGHT
TZOFFSETFROM:+0100
TZOFFSETTO:+0200
TZNAME:CEST
DTSTART:19700329T020000
RRULE:FREQ=YEARLY;BYMONTH=3;BYDAY=-1SU
END:DAYLIGHT
BEGIN:STANDARD
TZOFFSETFROM:+0200
TZOFFSETTO:+0100
TZNAME:CET
DTSTART:19701025T030000
RRULE:FREQ=YEARLY;BYMONTH=10;BYDAY=-1SU
END:STANDARD
END:VTIMEZONE
BEGIN:VEVENT
UID:2485226:Event:482615
DTSTAMP:20260422T140509Z
SUMMARY:Conférence \"Shiatsu et Relaxation Coréenne\"
DESCRIPTION:à 19h30\nAnimée par Marie Joëlle ROSE\nEntrée 6€\nht
 tp://www.centre-cikitsa.com/centre\n\nPour plus d'information, aller s
 ur https://epanews.fr/events/conf-rence-shiatsu-et-relaxation-cor-enne
DTSTART;TZID=Europe/Paris:20110921T193000
DTEND;TZID=Europe/Paris:20110921T213000
CATEGORIES:26
LOCATION:MONTELIMAR
WEBSITE:http://www.centre-cikitsa.com
URL:http://www.centre-cikitsa.com
CONTACT:0612560281
ORGANIZER;CN="Centre CIKITSA":https://epanews.fr/profile/CentreCIKITSA
ATTACH;FMTTYPE="image/jpeg":http://storage.ning.com/topology/rest/1.0/
 file/get/1662449410?profile=original
ATTENDEE;ROLE=REQ-PARTICIPANT;PARTSTAT=ACCEPTED;RSVP=TRUE;CN="Centre C
 IKITSA":https://epanews.fr/profile/CentreCIKITSA
END:VEVENT
END:VCALENDAR
