BEGIN:VCALENDAR
PRODID:NingEventWidget-v1
VERSION:2.0
METHOD:PUBLISH
BEGIN:VTIMEZONE
TZID:Europe/Paris
X-LIC-LOCATION:Europe/Paris
BEGIN:DAYLIGHT
TZOFFSETFROM:+0100
TZOFFSETTO:+0200
TZNAME:CEST
DTSTART:19700329T020000
RRULE:FREQ=YEARLY;BYMONTH=3;BYDAY=-1SU
END:DAYLIGHT
BEGIN:STANDARD
TZOFFSETFROM:+0200
TZOFFSETTO:+0100
TZNAME:CET
DTSTART:19701025T030000
RRULE:FREQ=YEARLY;BYMONTH=10;BYDAY=-1SU
END:STANDARD
END:VTIMEZONE
BEGIN:VEVENT
UID:2485226:Event:2628991
DTSTAMP:20260423T070441Z
SUMMARY:Conférence : Se libérer de nos croyances limitatives
DESCRIPTION:Nous avançons dans la vie en fonction de nos conditionnem
 ents, du regard de notre ego, souvent blessé, maltraité, de nos croy
 ances sur la vie, sur notre corps et de ces limites. Or la vie est en 
 constante appel de notre réveil, éveil, pour nous ouvrir et offrir c
 e qui est profondément inscrit : cette liberté, cette conscience de
  l'être, ces merveilles.\nwww.carolealiya.com : rubrique agenda \n\
 nPour plus d'information, aller sur https://epanews.fr/events/conf-ren
 ce-se-lib-rer-de-nos-croyances-limitatives
DTSTART;TZID=Europe/Paris:20160430T150000
DTEND;TZID=Europe/Paris:20160430T190000
CATEGORIES:33
LOCATION:Association Arc-en-ciel Arcachon
WEBSITE:
URL:
CONTACT:Réservation : 06 15 15 58 54 – 05 56 54 56 24 - christiane
 .mouls@yahoo.com
ORGANIZER;CN="Carole Aliya":https://epanews.fr/profile/carolealiyafree
 fr
ATTACH;FMTTYPE="image/jpeg":http://storage.ning.com/topology/rest/1.0/
 file/get/1663556257?profile=original
ATTENDEE;ROLE=REQ-PARTICIPANT;PARTSTAT=ACCEPTED;RSVP=TRUE;CN="Carole A
 liya":https://epanews.fr/profile/carolealiyafreefr
END:VEVENT
END:VCALENDAR
