BEGIN:VCALENDAR
PRODID:NingEventWidget-v1
VERSION:2.0
METHOD:PUBLISH
BEGIN:VTIMEZONE
TZID:Europe/Paris
X-LIC-LOCATION:Europe/Paris
BEGIN:DAYLIGHT
TZOFFSETFROM:+0100
TZOFFSETTO:+0200
TZNAME:CEST
DTSTART:19700329T020000
RRULE:FREQ=YEARLY;BYMONTH=3;BYDAY=-1SU
END:DAYLIGHT
BEGIN:STANDARD
TZOFFSETFROM:+0200
TZOFFSETTO:+0100
TZNAME:CET
DTSTART:19701025T030000
RRULE:FREQ=YEARLY;BYMONTH=10;BYDAY=-1SU
END:STANDARD
END:VTIMEZONE
BEGIN:VEVENT
UID:2485226:Event:481322
DTSTAMP:20260422T082113Z
SUMMARY:Conférence : Retrouver la joie en dénouant les blocages émo
 tionnels et corporels par la Psychologie Biodynamique
DESCRIPTION:Chaque être humain est unique et vient au monde avec un p
 otentiel positif que la Psychologie Biodynamique nomme le noyau sain. 
 Cependant les expériences douloureuses et non résolues favorisent l'
 apparition de cuirasses. La pulsation de vie est alors réduite et les
  émotions ne trouvent plus leur chemin d'expression. Les différents 
 outils proposés par la Psychologie Biodynamique permettent de libére
 r l'énergie figée par les mémoires corporelles et de retrouver la j
 oie, la créativité, l'harmonie corps-esprit, sources de vie essentie
 lles.\n \nPar Nadine Thomas pour l'Ecole Biodynamique\nEntrée : 5 eu
 ros\n\nPour plus d'information, aller sur https://epanews.fr/events/co
 nf-rence-retrouver-la-joie-en-d-nouant-les-blocages-motionnels
DTSTART;TZID=Europe/Paris:20110922T200000
DTEND;TZID=Europe/Paris:20110922T213000
CATEGORIES:13
LOCATION:Arles
WEBSITE:
URL:
CONTACT:04 67 22 40 50
ORGANIZER;CN="Ecole Biodynamique":https://epanews.fr/profile/EcoleBiod
 ynamique
ATTACH;FMTTYPE="image/jpeg":http://storage.ning.com/topology/rest/1.0/
 file/get/1662449302?profile=original
ATTENDEE;ROLE=REQ-PARTICIPANT;PARTSTAT=ACCEPTED;RSVP=TRUE;CN="Ecole Bi
 odynamique":https://epanews.fr/profile/EcoleBiodynamique
END:VEVENT
END:VCALENDAR
