BEGIN:VCALENDAR
PRODID:NingEventWidget-v1
VERSION:2.0
METHOD:PUBLISH
BEGIN:VTIMEZONE
TZID:Europe/Paris
X-LIC-LOCATION:Europe/Paris
BEGIN:DAYLIGHT
TZOFFSETFROM:+0100
TZOFFSETTO:+0200
TZNAME:CEST
DTSTART:19700329T020000
RRULE:FREQ=YEARLY;BYMONTH=3;BYDAY=-1SU
END:DAYLIGHT
BEGIN:STANDARD
TZOFFSETFROM:+0200
TZOFFSETTO:+0100
TZNAME:CET
DTSTART:19701025T030000
RRULE:FREQ=YEARLY;BYMONTH=10;BYDAY=-1SU
END:STANDARD
END:VTIMEZONE
BEGIN:VEVENT
UID:2485226:Event:2838228
DTSTAMP:20260422T102324Z
SUMMARY:confÃ©rence-repas
DESCRIPTION:Â Â Â Â Â Â Â Â Â Â Â Â Â Â Â Â Â Â Â Â Â Â  Garder le Cap
 Â !\nÂ \nÂ Â Â Â Â Â Â Â Â Â Â Â Â Â Â Â Â Â Â Â Â Â Â Â Â Â  6 JUIN 2
 017\nÂ \nÂ Â Â Â Â Â Â Â Â Â Â Â Â Â Â Â Â Â Â Â Â Â Â Â Â  Â Le Galop
 in\nÂ Â Â Â Â Â Â Â Â Â Â Â Â Â Â Â Â Â Â Â Â  3 Rue du Pont-Vieux\n09
  800 Saint Girons\nÂ Â Â Â Â Â Â Â Â Â Â Â Â Â Â Â Â Â Â Â Â Â  Â Â Â 
 Â Ã  partir de 18HÂ 30\nÂ \nÂ \nÂ Â Â Â  C'est difficile de rester sur
  Terre ces jours-ci.\nLes vibrations sontÂ terribles, restons solide c
 omme le phare dans la tempÃªte et regardons les Ã©vÃ¨nements en consci
 ence car tout nous appartientÂ !\nÂ \nÂ Â Â Â Â Â Â Â Â Â Â Â Â Â Â Â 
 Â Â Â Â Â Â Â Â Â Â Â Â Â Â Â Â Â Â Â Â Â Â Â Â Â Â Â Â Â Â \nRÃ©serve
 r en appelant MickaÃ«l 06 16 96 52 33\nÂ \nÂ \nParticipation libre Â Ã
   partir de 5 euros.\nRepas en plus selon carte.\nÂ \ndecouvrirladiffe
 rence.eklablog.fr\nwww.personocratia.com\n\nPour plus d'information, a
 ller sur https://epanews.fr/events/conf-rence-repas-1
DTSTART;TZID=Europe/Paris:20170606T183000
DTEND;TZID=Europe/Paris:20170606T213000
CATEGORIES:09
LOCATION:Saint Girons
WEBSITE:http://decouvriladifference.eklablog.fr
URL:http://decouvriladifference.eklablog.fr
CONTACT:06 16 96 52 33
ORGANIZER:MickaÃ«l
ATTACH;FMTTYPE="image/jpeg":http://storage.ning.com/topology/rest/1.0/
 file/get/1663673003?profile=original
ATTENDEE;ROLE=REQ-PARTICIPANT;PARTSTAT=ACCEPTED;RSVP=TRUE;CN=anyvone:h
 ttps://epanews.fr/profile/dezell
END:VEVENT
END:VCALENDAR
