BEGIN:VCALENDAR
PRODID:NingEventWidget-v1
VERSION:2.0
METHOD:PUBLISH
BEGIN:VTIMEZONE
TZID:Europe/Paris
X-LIC-LOCATION:Europe/Paris
BEGIN:DAYLIGHT
TZOFFSETFROM:+0100
TZOFFSETTO:+0200
TZNAME:CEST
DTSTART:19700329T020000
RRULE:FREQ=YEARLY;BYMONTH=3;BYDAY=-1SU
END:DAYLIGHT
BEGIN:STANDARD
TZOFFSETFROM:+0200
TZOFFSETTO:+0100
TZNAME:CET
DTSTART:19701025T030000
RRULE:FREQ=YEARLY;BYMONTH=10;BYDAY=-1SU
END:STANDARD
END:VTIMEZONE
BEGIN:VEVENT
UID:2485226:Event:1337899
DTSTAMP:20260421T184346Z
SUMMARY:Conférence: \"Redonner à sa vie sa vraie valeur\"
DESCRIPTION:\n\n------------------------------------------------------
 ----------------------------------------------------------------------
 -----------\nInformations complémentaires:\nLa conférence sera préc
 édée d'un accueil au piano dès 19h15 et une méditation guidée (av
 ec commentaire et musique) clôturera cette soirée placée sous le si
 gne de la spiritualité.\nAccès TPG: Tram 12 arrêt Terrassière / Pa
 rkings Villeureuse ou Eaux-Vives 2000.\nPour toutes questions ou rense
 ignements:\n076.615.59.55 ou geneva@ch.bkwsu.org http://www.bkwsu.org/
 switzerland/Calendrier?set_language=fr\nCordiale bienvenue!\n\nPour pl
 us d'information, aller sur https://epanews.fr/events/conf-rence-redon
 ner-sa-vie-sa-juste-valeur
DTSTART;TZID=Europe/Paris:20130613T191500
DTEND;TZID=Europe/Paris:20130613T210000
CATEGORIES:suisse
LOCATION:Théâtre de l'Espérance
WEBSITE:http://centre-esperance.ch/pages%20photos/planquartier.htm
URL:http://centre-esperance.ch/pages%20photos/planquartier.htm
CONTACT:0041 76 615 59 55
ORGANIZER:Centre de Raja Yoga & méditation de Genève
ATTACH;FMTTYPE="image/jpeg":http://storage.ning.com/topology/rest/1.0/
 file/get/1662826814?profile=original
ATTENDEE;ROLE=REQ-PARTICIPANT;PARTSTAT=ACCEPTED;RSVP=TRUE;CN="Nicolas 
 Crettex":https://epanews.fr/profile/NicolasCrettex
END:VEVENT
END:VCALENDAR
