BEGIN:VCALENDAR
PRODID:NingEventWidget-v1
VERSION:2.0
METHOD:PUBLISH
BEGIN:VTIMEZONE
TZID:Europe/Paris
X-LIC-LOCATION:Europe/Paris
BEGIN:DAYLIGHT
TZOFFSETFROM:+0100
TZOFFSETTO:+0200
TZNAME:CEST
DTSTART:19700329T020000
RRULE:FREQ=YEARLY;BYMONTH=3;BYDAY=-1SU
END:DAYLIGHT
BEGIN:STANDARD
TZOFFSETFROM:+0200
TZOFFSETTO:+0100
TZNAME:CET
DTSTART:19701025T030000
RRULE:FREQ=YEARLY;BYMONTH=10;BYDAY=-1SU
END:STANDARD
END:VTIMEZONE
BEGIN:VEVENT
UID:2485226:Event:1523537
DTSTAMP:20260423T124019Z
SUMMARY:ConfÃ©rence radiesthÃ©sie/magnÃ©tisme/NDE/Ã©criture automatiqu
 e
DESCRIPTION:\n\nÂ Â Â Â Â Â Â Â Â Â Â Â Â Â Â Â Â Â Â Â Â Â Â Â Â Â Â 
 Â Â Â Â Â Â Â Â Â Â Â Â Â Â Â \nhttp://www.associationcausette.com/\nÂ
  \nrecevraÂ \nÂ \nLaure Thierry-Mieg \n\npour une confÃ©rence â€“ dÃ©b
 at sur le sujet\nÂ \nRadiesthÃ©sie - MagnÃ©tisme â€“ NDE â€“ Ecriture 
 automatique\nÂ \nLe samedi 16 Novembre Ã  14 heures 30\nÂ \nMaison des
  Associations Saint Roch 50,\nboulevard Saint Roch Ã  Nice (arrÃªt Tra
 mway St Roch ou parking)\nRÃ©servation par mailÂ  causette06@gmail.com
  ou 06 18 09 87 60\nParticipation 10â‚¬ pour les non-adhÃ©rents et 4â‚
 ¬ pour les adhÃ©rents\nÂ \nC'est en 1984 Ã  la suite d'une NDE que la 
 vie de Laure prend une tournure autre que celle d'une vie classique. C
 ette expÃ©rience lâ€™amÃ¨ne Ã  se poser des questions essentielles : p
 ourquoi suis-je revenue ? Dans quel but ? Elle ressent les frontiÃ¨res
  entre la vie et la mort, elle s'initie tout d'abord Ã  la radiesthÃ©s
 ie en recevant une initiation lors de rÃªves. Bien vite, elle expÃ©rim
 ente le magnÃ©tisme et ouvre son cabinet en 2003. FormÃ©e Ã  la sophro
 logie en 2006 et Ã  la naturopathie en 2012, elle continue d'explorer 
 le domaine du possible Ã  travers les soins Ã©nergÃ©tiques quantiques 
 grÃ¢ce Ã  lâ€™Ã©nergie cristalline. Aujourdâ€™hui, câ€™est dans le par
 tage et lâ€™Ã©change quâ€™elle souhaite parler de lâ€™aventure de sa v
 ie.\n\n\n\n\n\nPour plus d'information, aller sur https://epanews.fr/e
 vents/conf-rence-radiesth-sie-magn-tisme-nde-criture-automatique
DTSTART;TZID=Europe/Paris:20131116T143000
DTEND;TZID=Europe/Paris:20131116T180000
CATEGORIES:06
LOCATION:Nice
WEBSITE:http://www.associationcausette.com/
URL:http://www.associationcausette.com/
CONTACT:
ORGANIZER:Association Causette
ATTACH;FMTTYPE="image/jpeg":
ATTENDEE;ROLE=REQ-PARTICIPANT;PARTSTAT=ACCEPTED;RSVP=TRUE;CN="Laure Th
 ierry-Mieg Naturopathe":https://epanews.fr/profile/LaureThierryMieg
ATTENDEE;ROLE=REQ-PARTICIPANT;PARTSTAT=TENTATIVE;RSVP=TRUE;CN=123zaza:
 https://epanews.fr/profile/123zaza
END:VEVENT
END:VCALENDAR
