BEGIN:VCALENDAR
PRODID:NingEventWidget-v1
VERSION:2.0
METHOD:PUBLISH
BEGIN:VTIMEZONE
TZID:Europe/Paris
X-LIC-LOCATION:Europe/Paris
BEGIN:DAYLIGHT
TZOFFSETFROM:+0100
TZOFFSETTO:+0200
TZNAME:CEST
DTSTART:19700329T020000
RRULE:FREQ=YEARLY;BYMONTH=3;BYDAY=-1SU
END:DAYLIGHT
BEGIN:STANDARD
TZOFFSETFROM:+0200
TZOFFSETTO:+0100
TZNAME:CET
DTSTART:19701025T030000
RRULE:FREQ=YEARLY;BYMONTH=10;BYDAY=-1SU
END:STANDARD
END:VTIMEZONE
BEGIN:VEVENT
UID:2485226:Event:665769
DTSTAMP:20260422T091622Z
SUMMARY:conférence : quand votre santé passe par le rire
DESCRIPTION:conférencier ; Antoine Rogani\nParticipation : 5 euros\n\
 nPour plus d'information, aller sur https://epanews.fr/events/conf-ren
 ce-quand-votre-sant-passe-par-le-rire
DTSTART;TZID=Europe/Paris:20120218T160000
DTEND;TZID=Europe/Paris:20120218T170000
CATEGORIES:83
LOCATION:TOULON
WEBSITE:
URL:
CONTACT:
ORGANIZER;CN="Monique Estienne":https://epanews.fr/profile/MoniqueEsti
 enne
ATTACH;FMTTYPE="image/jpeg":
ATTENDEE;ROLE=REQ-PARTICIPANT;PARTSTAT=ACCEPTED;RSVP=TRUE;CN="Monique 
 Estienne":https://epanews.fr/profile/MoniqueEstienne
END:VEVENT
END:VCALENDAR
