BEGIN:VCALENDAR
PRODID:NingEventWidget-v1
VERSION:2.0
METHOD:PUBLISH
BEGIN:VTIMEZONE
TZID:Europe/Paris
X-LIC-LOCATION:Europe/Paris
BEGIN:DAYLIGHT
TZOFFSETFROM:+0100
TZOFFSETTO:+0200
TZNAME:CEST
DTSTART:19700329T020000
RRULE:FREQ=YEARLY;BYMONTH=3;BYDAY=-1SU
END:DAYLIGHT
BEGIN:STANDARD
TZOFFSETFROM:+0200
TZOFFSETTO:+0100
TZNAME:CET
DTSTART:19701025T030000
RRULE:FREQ=YEARLY;BYMONTH=10;BYDAY=-1SU
END:STANDARD
END:VTIMEZONE
BEGIN:VEVENT
UID:2485226:Event:1108053
DTSTAMP:20260421T130834Z
SUMMARY:confÃ©rence qu'est ce que la sophro-analyse des mÃ©moires prÃ©
 natales ?
DESCRIPTION:La Sophro-Analyse des mÃ©moires prÃ©natales\nÂ \nQuâ€™est 
 ce que câ€™est ?\nConfÃ©rence le 26 janvier de 14h Ã  15H30 au centre 
 Etaap\nÂ La Sophro-Analyse du Dr Claude Imbert est une thÃ©rapie brÃ¨v
 e, efficace et durable qui intÃ¨gre le corps au mental. Elle permet de
  comprendre et de libÃ©rer les origines des croyances limitantes de no
 tre vie (dÃ©valorisation, non amour de soi et culpabilitÃ©).\nLes Ã©vÃ
 ¨nements blessants et mal vÃ©cus crÃ©ent en nous dÃ¨s la vie intra utÃ
 ©rine, des empreintes profondes qui limitent ou empÃªchent lâ€™accÃ¨s 
 Ã  nos ressources intÃ©rieures.\nCâ€™est ainsi que se mettent en place
 , Ã  notre insu, les futurs scÃ©narios de lâ€™adulte (Ã©chec ou rÃ©uss
 ite, maladie ou santÃ©, solitude ou amourâ€¦)\nLempreintes de la vie i
 ntra utÃ©rine, telles les empreintes de la conception, du non dÃ©sir d
 e la grossesse, de la prÃ©fÃ©rence de sexe etcâ€¦\nLes empreintes de l
 a naissance, telles les empreintes de la naissance par le siÃ¨ge, la c
 Ã©sarienne, le circulaire du cordon etcâ€¦\nLes empreintes de lâ€™enfa
 nce telles les empreintes de viol, inceste, attouchement, de deuil dâ€
 ™un parent, fratrie, dâ€™un grand parent etcâ€¦\nÂ \nVenez dÃ©couvrir,
  Ã©changer, avec Ameyo MALM comment le travail thÃ©rapeutique en Sophr
 o-Analyse des mÃ©moires prÃ©natales peut vous aider Ã  libÃ©rer ces em
 preintes.\nÂ \nLa confÃ©rence est ouverte Ã  tous.\nÂ \nCentre Etaap 2
 1 rue du Faubourg Saint Antoine 75011 Paris Cour de Juin â€“ RDC\nMÂ° 
 Bastille (sortie rue de la Roquette) Participation 5 euros\nÂ \nMerci 
 de confirmer votre prÃ©sence par mail : agenaameyo@gmail.com\nÂ \nÂ \n
 \nPour plus d'information, aller sur https://epanews.fr/events/conf-re
 nce-qu-est-ce-que-la-sophro-analyse-des-m-moires-pr
DTSTART;TZID=Europe/Paris:20130126T140000
DTEND;TZID=Europe/Paris:20130126T153000
CATEGORIES:75011
LOCATION:CENTRE ETAAP
WEBSITE:
URL:
CONTACT:confirmation par email : agenaameyo@gmail.com
ORGANIZER;CN=nana:https://epanews.fr/profile/nana
ATTACH;FMTTYPE="image/jpeg":
ATTENDEE;ROLE=REQ-PARTICIPANT;PARTSTAT=ACCEPTED;RSVP=TRUE;CN=nana:http
 s://epanews.fr/profile/nana
ATTENDEE;ROLE=REQ-PARTICIPANT;PARTSTAT=TENTATIVE;RSVP=TRUE;CN=Minoucha
 :https://epanews.fr/profile/Minoucha
END:VEVENT
END:VCALENDAR
