BEGIN:VCALENDAR
PRODID:NingEventWidget-v1
VERSION:2.0
METHOD:PUBLISH
BEGIN:VTIMEZONE
TZID:Europe/Paris
X-LIC-LOCATION:Europe/Paris
BEGIN:DAYLIGHT
TZOFFSETFROM:+0100
TZOFFSETTO:+0200
TZNAME:CEST
DTSTART:19700329T020000
RRULE:FREQ=YEARLY;BYMONTH=3;BYDAY=-1SU
END:DAYLIGHT
BEGIN:STANDARD
TZOFFSETFROM:+0200
TZOFFSETTO:+0100
TZNAME:CET
DTSTART:19701025T030000
RRULE:FREQ=YEARLY;BYMONTH=10;BYDAY=-1SU
END:STANDARD
END:VTIMEZONE
BEGIN:VEVENT
UID:2485226:Event:1421514
DTSTAMP:20260421T175644Z
SUMMARY:ConfÃ©rence Qi Gong FÃ©minin - Â« Harmoniser les trois grandes
  phases de la vie Ã©nergÃ©tique fÃ©minine par le Qi Gong Â»
DESCRIPTION:Â«Â Harmoniser les trois grandes phases de la vie Ã©nergÃ©
 tique fÃ©minine par le Qi GongÂ Â»\nVendredi 21 juin - 19h/20h30 - 5 e
 uros\n\"Les Temps du Corps\", 10 rue de l'Ã©chiquier, 75010 Paris\nDu 
 commencement des cycles menstruels, Ã  sa rÃ©gularitÃ© et ses dÃ©sagrÃ
 ©ments Ã©ventuels, Ã  l'envie de concevoir et le bonheur de la grosses
 se, jusqu'Ã  l'arrivÃ©e de la mÃ©nopause, lâ€™accueil de ce nouvel Ã©q
 uilibre et de son potentiel rayonnantÂ ; la vie d'une femme est un bea
 u voyage Ã  travers des paysages changeants.\nCette confÃ©rence vous p
 ropose de comprendre ces transformations, physiologiques et Ã©nergÃ©ti
 ques et comment le Qi Gong s'avÃ¨re Ãªtre un outil prÃ©cieux pour les 
 traverser en les apprÃ©ciant.\nCette confÃ©rence sera suivie d'une pra
 tique de Â«Â Qi Gong au fÃ©mininÂ Â».\n\n\nPour plus d'information, al
 ler sur https://epanews.fr/events/conf-rence-qi-gong-f-minin-harmonise
 r-les-trois-grandes-phases-de
DTSTART;TZID=Europe/Paris:20130621T190000
DTEND;TZID=Europe/Paris:20130621T203000
CATEGORIES:75
LOCATION:Les Temps du Corps, Paris 10
WEBSITE:http://www.tempsducorps.org/infos-pratiques.html
URL:http://www.tempsducorps.org/infos-pratiques.html
CONTACT:0681239978
ORGANIZER:Chrystel Herbeaux Del Pino
ATTACH;FMTTYPE="image/jpeg":http://storage.ning.com/topology/rest/1.0/
 file/get/1662870387?profile=original
ATTENDEE;ROLE=REQ-PARTICIPANT;PARTSTAT=ACCEPTED;RSVP=TRUE;CN="Chrystel
  Qi Gong":https://epanews.fr/profile/ChrystelQiGong
END:VEVENT
END:VCALENDAR
