BEGIN:VCALENDAR
PRODID:NingEventWidget-v1
VERSION:2.0
METHOD:PUBLISH
BEGIN:VTIMEZONE
TZID:Europe/Paris
X-LIC-LOCATION:Europe/Paris
BEGIN:DAYLIGHT
TZOFFSETFROM:+0100
TZOFFSETTO:+0200
TZNAME:CEST
DTSTART:19700329T020000
RRULE:FREQ=YEARLY;BYMONTH=3;BYDAY=-1SU
END:DAYLIGHT
BEGIN:STANDARD
TZOFFSETFROM:+0200
TZOFFSETTO:+0100
TZNAME:CET
DTSTART:19701025T030000
RRULE:FREQ=YEARLY;BYMONTH=10;BYDAY=-1SU
END:STANDARD
END:VTIMEZONE
BEGIN:VEVENT
UID:2485226:Event:1916515
DTSTAMP:20260420T223919Z
SUMMARY:Conférence publique exceptionnelle sur le « Yoga du Souffle 
 »   Pratiques de prospérité et de longue vie
DESCRIPTION:Conférence publique exceptionnelle sur le « Yoga du Sou
 ffle »\n Pratiques de prospérité et de longue vie\navec Geshe Cha
 phur Rinpoche\nMaître bouddhiste tibétain du Monastère de Menri\nIn
 vité de Samten Yeshe Rinpoché \n \n Dimanche 11 mai 2014\n de 14
 h30 à 16h30 pour les pratiques\n de 18h à 20h30 pour la conférence
  publique\n Plus d'infos sur : http://www.samtenyesherinpoche.fr/161
 168083\nParticipation:15 euros pour la conférence/ Libre pour les p
 ratiques avec possibilité d'acquérir un vase de prospérité consacr
 é par les maîtres lors de la pratique \nLieu : Au Centre de l'Arb
 re – 14 rue Georges- Montpellier (les Arceaux)- Tram Station « le
 s Arceaux »\nNombres de places très limité!\nInscription préalabl
 e obligatoire au 061 047 39 82  \nou takzigsamtenling@gmail.com\n 
 \n \n \n \n \n \n \n \n\nPour plus d'information, aller sur htt
 ps://epanews.fr/events/conf-rence-publique-exceptionnelle-sur-le-yoga-
 du-souffle
DTSTART;TZID=Europe/Paris:20140511T143000
DTEND;TZID=Europe/Paris:20140511T200000
CATEGORIES:34
LOCATION:Centre de l'Arbre, Montpellier, Les Arceaux
WEBSITE:http://www.samtenyesherinpoche.fr/161168074
URL:http://www.samtenyesherinpoche.fr/161168074
CONTACT:0610473982
ORGANIZER;CN="judith soussans":https://epanews.fr/profile/judithsoussa
 ns
ATTACH;FMTTYPE="image/jpeg":http://storage.ning.com/topology/rest/1.0/
 file/get/1663133566?profile=original
ATTENDEE;ROLE=REQ-PARTICIPANT;PARTSTAT=ACCEPTED;RSVP=TRUE;CN="judith s
 oussans":https://epanews.fr/profile/judithsoussans
END:VEVENT
END:VCALENDAR
