BEGIN:VCALENDAR
PRODID:NingEventWidget-v1
VERSION:2.0
METHOD:PUBLISH
BEGIN:VTIMEZONE
TZID:Europe/Paris
X-LIC-LOCATION:Europe/Paris
BEGIN:DAYLIGHT
TZOFFSETFROM:+0100
TZOFFSETTO:+0200
TZNAME:CEST
DTSTART:19700329T020000
RRULE:FREQ=YEARLY;BYMONTH=3;BYDAY=-1SU
END:DAYLIGHT
BEGIN:STANDARD
TZOFFSETFROM:+0200
TZOFFSETTO:+0100
TZNAME:CET
DTSTART:19701025T030000
RRULE:FREQ=YEARLY;BYMONTH=10;BYDAY=-1SU
END:STANDARD
END:VTIMEZONE
BEGIN:VEVENT
UID:2485226:Event:2678916
DTSTAMP:20260421T184308Z
SUMMARY:Conférence \"Pourquoi vivons-nous ?\"
DESCRIPTION:Quel est le sens de la vie? Quel mystère revêt le sens 
 de naître et de mourir? Quelle est cette mystérieuse intelligence ,
 ou plan, qui paraît parfois habiter et mouvoir la création?Cette con
 férence a pour objet d'évoquer le monde qui nous est intérieur. Cel
 ui-ci porte à lui seul l'image de l'univers, dont la conscience est l
 'expression la plus élevée .Entrée libre et gratuite \n\nPour plus
  d'information, aller sur https://epanews.fr/events/conf-rence-pourquo
 i-vivons-nous
DTSTART;TZID=Europe/Paris:20160907T193000
DTEND;TZID=Europe/Paris:20160907T210000
CATEGORIES:75
LOCATION:Hôtel Le Clos Notre Dame
WEBSITE:http://paris.rose-croix-d-or.org
URL:http://paris.rose-croix-d-or.org
CONTACT:0661320412
ORGANIZER;CN=sylvanus:https://epanews.fr/profile/sylvanus
ATTACH;FMTTYPE="image/jpeg":http://storage.ning.com/topology/rest/1.0/
 file/get/1663587177?profile=original
ATTENDEE;ROLE=REQ-PARTICIPANT;PARTSTAT=ACCEPTED;RSVP=TRUE;CN=sylvanus:
 https://epanews.fr/profile/sylvanus
END:VEVENT
END:VCALENDAR
