BEGIN:VCALENDAR
PRODID:NingEventWidget-v1
VERSION:2.0
METHOD:PUBLISH
BEGIN:VTIMEZONE
TZID:Europe/Paris
X-LIC-LOCATION:Europe/Paris
BEGIN:DAYLIGHT
TZOFFSETFROM:+0100
TZOFFSETTO:+0200
TZNAME:CEST
DTSTART:19700329T020000
RRULE:FREQ=YEARLY;BYMONTH=3;BYDAY=-1SU
END:DAYLIGHT
BEGIN:STANDARD
TZOFFSETFROM:+0200
TZOFFSETTO:+0100
TZNAME:CET
DTSTART:19701025T030000
RRULE:FREQ=YEARLY;BYMONTH=10;BYDAY=-1SU
END:STANDARD
END:VTIMEZONE
BEGIN:VEVENT
UID:2485226:Event:2832868
DTSTAMP:20260420T155556Z
SUMMARY:ConfÃ©rence : pourquoi grossit-on?
DESCRIPTION:PatrickÂ MartiniÂ  (Astrophysicien, Â DiplÃ´mÃ©Â deÂ Lâ€™E
 coleÂ desÂ PlantesÂ MÃ©dicinalesÂ deÂ LyonÂ etÂ PrÃ©sident duÂ Laborat
 oireÂ MINT-e)Â vaÂ vousÂ prÃ©senter :\nâ€¢â€¯ EpidÃ©mie et croyances a
 ctuelles\nâ€¢â€¯ Les bases: un modÃ¨le plus adaptÃ© au stockage des gr
 aisses\nâ€¢â€¯ Sucre, insuline et la face cachÃ©e du plaisir sucrÃ© â€
 ¢â€¯ Lâ€™alimentation, le plus grand secret de la santÃ©\nâ€¢â€¯ La dÃ
 ©toxination au centre de lâ€™amaigrissement\nâ€¢â€¯ Les avantages du j
 eune\nÂ + ApÃ©ritif santÃ©\n\nPour plus d'information, aller sur https
 ://epanews.fr/events/conf-rence-pourquoi-grossit-on
DTSTART;TZID=Europe/Paris:20170603T103000
DTEND;TZID=Europe/Paris:20170603T123000
CATEGORIES:13
LOCATION:Aubagne
WEBSITE:http://www.aquaforme.fr/
URL:http://www.aquaforme.fr/
CONTACT:04 42 04 92 62
ORGANIZER;CN="Fred A'KaHuna":https://epanews.fr/profile/FredAKaHuna
ATTACH;FMTTYPE="image/jpeg":http://storage.ning.com/topology/rest/1.0/
 file/get/1663666784?profile=original
ATTENDEE;ROLE=REQ-PARTICIPANT;PARTSTAT=ACCEPTED;RSVP=TRUE;CN="Fred A'K
 aHuna":https://epanews.fr/profile/FredAKaHuna
END:VEVENT
END:VCALENDAR
