BEGIN:VCALENDAR
PRODID:NingEventWidget-v1
VERSION:2.0
METHOD:PUBLISH
BEGIN:VTIMEZONE
TZID:Europe/Paris
X-LIC-LOCATION:Europe/Paris
BEGIN:DAYLIGHT
TZOFFSETFROM:+0100
TZOFFSETTO:+0200
TZNAME:CEST
DTSTART:19700329T020000
RRULE:FREQ=YEARLY;BYMONTH=3;BYDAY=-1SU
END:DAYLIGHT
BEGIN:STANDARD
TZOFFSETFROM:+0200
TZOFFSETTO:+0100
TZNAME:CET
DTSTART:19701025T030000
RRULE:FREQ=YEARLY;BYMONTH=10;BYDAY=-1SU
END:STANDARD
END:VTIMEZONE
BEGIN:VEVENT
UID:2485226:Event:482618
DTSTAMP:20260423T075239Z
SUMMARY:Conférence \"Pourquoi des évènements douloureux, conflictue
 ls ou limitant se répètent dans votre vie et entravent votre réussi
 te familiale, professionnelle, sociale, sentimentale..;?\"
DESCRIPTION:à 20h30\nAnimée par Gilbert NARBONNET\nEntrée 8€\nhtt
 p://www.centre-cikitsa.com/centre\n\nPour plus d'information, aller su
 r https://epanews.fr/events/conf-rence-pourquoi-des-v-nements-douloure
 ux-conflictuels-ou
DTSTART;TZID=Europe/Paris:20110930T203000
DTEND;TZID=Europe/Paris:20110930T223000
CATEGORIES:26
LOCATION:MONTELIMAR
WEBSITE:http://www.centre-cikitsa.com
URL:http://www.centre-cikitsa.com
CONTACT:0474966757
ORGANIZER;CN="Centre CIKITSA":https://epanews.fr/profile/CentreCIKITSA
ATTACH;FMTTYPE="image/jpeg":http://storage.ning.com/topology/rest/1.0/
 file/get/1662449509?profile=original
ATTENDEE;ROLE=REQ-PARTICIPANT;PARTSTAT=ACCEPTED;RSVP=TRUE;CN="Centre C
 IKITSA":https://epanews.fr/profile/CentreCIKITSA
END:VEVENT
END:VCALENDAR
