BEGIN:VCALENDAR
PRODID:NingEventWidget-v1
VERSION:2.0
METHOD:PUBLISH
BEGIN:VTIMEZONE
TZID:Europe/Paris
X-LIC-LOCATION:Europe/Paris
BEGIN:DAYLIGHT
TZOFFSETFROM:+0100
TZOFFSETTO:+0200
TZNAME:CEST
DTSTART:19700329T020000
RRULE:FREQ=YEARLY;BYMONTH=3;BYDAY=-1SU
END:DAYLIGHT
BEGIN:STANDARD
TZOFFSETFROM:+0200
TZOFFSETTO:+0100
TZNAME:CET
DTSTART:19701025T030000
RRULE:FREQ=YEARLY;BYMONTH=10;BYDAY=-1SU
END:STANDARD
END:VTIMEZONE
BEGIN:VEVENT
UID:2485226:Event:2782003
DTSTAMP:20260421T065207Z
SUMMARY:ConfÃ©rence Pentanalogie
DESCRIPTION:ConfÃ©rence La Pentanalogie, votre date de naissance rÃ©vÃ
 ¨le la mission sur terre de votre Ame par Brigitte Boeyens -Â \n\nVend
 redi 10 FÃ©vrier 2017 Ã  18h30\n\nAvant de venir sur terre, l'Ã¢me cho
 isit ce qu'elle doit travailler selon les expÃ©riences vÃ©cues dans d'
 autres vies. Comprendre ce programme nous aide Ã  comprendre le pourqu
 oi de nos souffrances, blocages, rÃ©sistances, peurs, etc ... La Penta
 nologie est une mÃ©thode suisse d'analyse approfondie de la date de na
 issance. Cet outil de connaissance de soi permet de dÃ©couvrir le pour
 quoi de notre fonctionnement, la cause de mal-Ãªtre, problÃ¨mes relati
 onnels, comportements obsessionnels mais aussi de troubles physiques.\
 n\nElle dÃ©montre nos schÃ©mas mentaux qui font que nous continuons Ã 
  rÃ©pÃ©ter les mÃªmes erreurs et qui sont souvent transmis de gÃ©nÃ©ra
 tion en gÃ©nÃ©ration. Elle rÃ©vÃ¨le les tensions, les saboteurs, les b
 locages, bref tous les dÃ©fis de notre vie et les moyens de les surmon
 ter. Ainsi la pentanalogie devient le manuel indispensable pour entame
 r ou approfondir le travail sur soi. ThÃ©rapeutes et praticiens du bie
 n-Ãªtre : cet outil aidera Ã  encore mieux comprendre vos patients afi
 n de leur donner le meilleur soin possible.\n\nParticipation 7â‚¬ non 
 adhÃ©rent 5â‚¬ adhÃ©rent Places limitÃ©es\n\nÂ RÃ©servations NadÃ¨ge 0
 6.23.01.35.96 larcencieldupartage@sfr.frÂ \n\nÂ L'arc en ciel du parta
 geÂ \n1 rue GaranciÃ¨re (cÃ´tÃ© quai de lorraine) 11100 NARBONNE www.l
 arcencieldupartage.org\n\nPour plus d'information, aller sur https://e
 panews.fr/events/conf-rence-pentanalogie
DTSTART;TZID=Europe/Paris:20170210T183000
DTEND;TZID=Europe/Paris:20170210T200000
CATEGORIES:11
LOCATION:L'Arc en ciel du partage
WEBSITE:http://www.larcencieldupartage.org
URL:http://www.larcencieldupartage.org
CONTACT:0623013596
ORGANIZER;CN="L'arc en ciel du partage":https://epanews.fr/profile/Lar
 cencieldupartage
ATTACH;FMTTYPE="image/jpeg":http://storage.ning.com/topology/rest/1.0/
 file/get/1663639935?profile=original
ATTENDEE;ROLE=REQ-PARTICIPANT;PARTSTAT=ACCEPTED;RSVP=TRUE;CN="L'arc en
  ciel du partage":https://epanews.fr/profile/Larcencieldupartage
END:VEVENT
END:VCALENDAR
