BEGIN:VCALENDAR
PRODID:NingEventWidget-v1
VERSION:2.0
METHOD:PUBLISH
BEGIN:VTIMEZONE
TZID:Europe/Paris
X-LIC-LOCATION:Europe/Paris
BEGIN:DAYLIGHT
TZOFFSETFROM:+0100
TZOFFSETTO:+0200
TZNAME:CEST
DTSTART:19700329T020000
RRULE:FREQ=YEARLY;BYMONTH=3;BYDAY=-1SU
END:DAYLIGHT
BEGIN:STANDARD
TZOFFSETFROM:+0200
TZOFFSETTO:+0100
TZNAME:CET
DTSTART:19701025T030000
RRULE:FREQ=YEARLY;BYMONTH=10;BYDAY=-1SU
END:STANDARD
END:VTIMEZONE
BEGIN:VEVENT
UID:2485226:Event:2936781
DTSTAMP:20260421T131223Z
SUMMARY:Conférence - Partage \"Qui sont les Créatifs culturels, et v
 ous êtes-vous créateurs de culture\"
DESCRIPTION:Ils (ou même le plus souvent elles) ont tendances à êtr
 e discrets,subtils, pacifiques, spirituels et elles (et eux) font bien
 tôt près\ndu quart des individus des sociétés dites avancées : le
 s créatifs culturels.\n\nIls ont pour habitude de transformer singuli
 èrement leur milieu de vie en optant pour le respect de l'environneme
 nt, un rapport égalitaire et respectueux entre homme et femme,\net se
  caractérisent par une grande ouverture d'esprit face aux phénomène
 s religieux,\nou plus globalement à la spiritualité.\n\nQui sait si 
 vous ne faites pas déjà partie de ces infatigables créateurs de cul
 ture?\n\nEt Si vous en êtes,\nque déciderez-vous d'accomplir\nà par
 tir de maintenant ?\n\nAprès une présentation de ce que sont les \"C
 réatifs culturels\", sur la base de l'étude de Paul Ray et Sherry A
 nderson, nous regarderons ce qu'est devenue cette population, et écha
 ngerons sur son (notre) avenir.\n\n\nPour plus d'information, aller su
 r https://epanews.fr/events/conf-rence-partage-qui-sont-les-cr-atifs-c
 ulturels-et-vous-tes
DTSTART;TZID=Europe/Paris:20180317T150000
DTEND;TZID=Europe/Paris:20180317T173000
CATEGORIES:44
LOCATION:Salle Chlorophille
WEBSITE:
URL:
CONTACT:0661268584
ORGANIZER:
ATTACH;FMTTYPE="image/jpeg":http://storage.ning.com/topology/rest/1.0/
 file/get/1663723503?profile=original
ATTENDEE;ROLE=REQ-PARTICIPANT;PARTSTAT=ACCEPTED;RSVP=TRUE;CN="converge
 nces 35":https://epanews.fr/profile/convergences35
END:VEVENT
END:VCALENDAR
