BEGIN:VCALENDAR
PRODID:NingEventWidget-v1
VERSION:2.0
METHOD:PUBLISH
BEGIN:VTIMEZONE
TZID:Europe/Paris
X-LIC-LOCATION:Europe/Paris
BEGIN:DAYLIGHT
TZOFFSETFROM:+0100
TZOFFSETTO:+0200
TZNAME:CEST
DTSTART:19700329T020000
RRULE:FREQ=YEARLY;BYMONTH=3;BYDAY=-1SU
END:DAYLIGHT
BEGIN:STANDARD
TZOFFSETFROM:+0200
TZOFFSETTO:+0100
TZNAME:CET
DTSTART:19701025T030000
RRULE:FREQ=YEARLY;BYMONTH=10;BYDAY=-1SU
END:STANDARD
END:VTIMEZONE
BEGIN:VEVENT
UID:2485226:Event:558497
DTSTAMP:20260423T070441Z
SUMMARY:ConfÃ©rence NumÃ©rologie et KhÃ©rialogie
DESCRIPTION:ConfÃ©rence\nle Samedi 19 NovembreÂ  Ã  partir de 19h30\nÂ
  Â Â Â Â Â Â Â Â  DurÃ©eÂ : 2 heures Â Â Â Â Â Â  Â Â Â Â Â Â Â Â Â Â 
 Â Â Â Â Â Â Â Â Â Â Â Â Â Â Â Â Â Â Â Â Â Â Â Â Â Â Â Â Â Â Â Â Â Â Â 
 Â Â Â Â Â Â Â Â Â Â Â Â Â Â Â Â Â Â Â Â Â Â Â Â Â Â Â Â Â Â Â Â Â Â Â 
 Â Â Â Â Â Â Â Â Â Â Â Â Â Â Â Â Â Â Â Â Â Â Â Â Â \nNous vous proposon
 s de nous rÃ©unir pour parler de la NumÃ©rologie mais aussiÂ  de la Kh
 Ã©rialogie.\nÃ˜Â  Patrick commencera par une prÃ©sentation de la NumÃ©
 rologie avec le calcul de votre chemin de vie.\nÂ \nÃ˜Â  Puis, Arnaud 
 vous prÃ©sentera la KhÃ©rialogie, science innovante basÃ©e sur lâ€™int
 erprÃ©tation des phonÃ©tiques dans votre prÃ©nom etÂ  nom de naissance
 .\n\nElle permet de cibler votre caractÃ¨re en un clin dâ€™Å“il.\nElle
  permet aussi Â de comprendre le comportement des individus (trÃ¨s uti
 le dans le professionnel et le couple).\nPeut vous aider Ã  trouver le
  partenaire qui vous correspond.\nDÃ©tecte les harmonies et les opposi
 tions dans un couple, ce qui donne des solutions aux problÃ¨mes de cou
 ple.\nDonne des pistes pour la voie professionnelle.\nAide Ã  choisir 
 un prÃ©nom Ã  lâ€™enfant qui va naÃ®tre, pour quâ€™il puisse garder un
  lien fortÂ  avec sa mÃ¨re durant toute sa vie (trÃ¨s utile, si confli
 t avec le pÃ¨re).\npour lui donner toutes les chances de rÃ©ussir sa v
 ie en lui donnant les potentiels nÃ©cessaires (le sens des responsabil
 itÃ©s, une bonne communication, de la diplomatieâ€¦).\n\nParticipation
  aux frais: 5â‚¬\n\nOn vous y attend nombreux !\n\nA bientÃ´t !\n\nArn
 aud et Patrick\n\n\nPour plus d'information, aller sur https://epanews
 .fr/events/conf-rence-num-rologie-et-kh-rialogie
DTSTART;TZID=Europe/Paris:20111119T193000
DTEND;TZID=Europe/Paris:20111119T213000
CATEGORIES:13
LOCATION:MARSEILLE
WEBSITE:http://www.dloisirs.com
URL:http://www.dloisirs.com
CONTACT:06.30.56.23.72  ou 06.77.59.30.86
ORGANIZER;CN=Pat13:https://epanews.fr/profile/DAVIET
ATTACH;FMTTYPE="image/jpeg":http://storage.ning.com/topology/rest/1.0/
 file/get/1662471403?profile=original
ATTENDEE;ROLE=REQ-PARTICIPANT;PARTSTAT=ACCEPTED;RSVP=TRUE;CN=Namaste05
 :https://epanews.fr/profile/PATYAVINIO
ATTENDEE;ROLE=REQ-PARTICIPANT;PARTSTAT=ACCEPTED;RSVP=TRUE;CN=Pat13:htt
 ps://epanews.fr/profile/DAVIET
END:VEVENT
END:VCALENDAR
