BEGIN:VCALENDAR
PRODID:NingEventWidget-v1
VERSION:2.0
METHOD:PUBLISH
BEGIN:VTIMEZONE
TZID:Europe/Paris
X-LIC-LOCATION:Europe/Paris
BEGIN:DAYLIGHT
TZOFFSETFROM:+0100
TZOFFSETTO:+0200
TZNAME:CEST
DTSTART:19700329T020000
RRULE:FREQ=YEARLY;BYMONTH=3;BYDAY=-1SU
END:DAYLIGHT
BEGIN:STANDARD
TZOFFSETFROM:+0200
TZOFFSETTO:+0100
TZNAME:CET
DTSTART:19701025T030000
RRULE:FREQ=YEARLY;BYMONTH=10;BYDAY=-1SU
END:STANDARD
END:VTIMEZONE
BEGIN:VEVENT
UID:2485226:Event:2670070
DTSTAMP:20260421T155137Z
SUMMARY:Conférence \" Nouvelle conscience, nouvelle humanité \"
DESCRIPTION:Depuis les années 2001, l' Ere du Verseau se manifeste av
 ec de plus en plus de force , et l'humanité s'engage peu à peu sur l
 e chemin d'un éveil collectif. S'agit-il d'une nouvelle conscience ? 
 Peut-on dire que l'ensemble de l'humanité est en train de se transfor
 mer, vers plus de conscience collective et plus de responsabilité ?En
 trée libre et gratuite \n\nPour plus d'information, aller sur https:
 //epanews.fr/events/conf-rence-nouvelle-conscience-nouvelle-humanit
DTSTART;TZID=Europe/Paris:20160824T193000
DTEND;TZID=Europe/Paris:20160824T213000
CATEGORIES:75
LOCATION:Hôtel Le Clos Notre Dame
WEBSITE:http://paris.rose-croix-d-or.org
URL:http://paris.rose-croix-d-or.org
CONTACT:0661320412
ORGANIZER;CN=sylvanus:https://epanews.fr/profile/sylvanus
ATTACH;FMTTYPE="image/jpeg":http://storage.ning.com/topology/rest/1.0/
 file/get/1663578688?profile=original
ATTENDEE;ROLE=REQ-PARTICIPANT;PARTSTAT=ACCEPTED;RSVP=TRUE;CN=sylvanus:
 https://epanews.fr/profile/sylvanus
END:VEVENT
END:VCALENDAR
