BEGIN:VCALENDAR
PRODID:NingEventWidget-v1
VERSION:2.0
METHOD:PUBLISH
BEGIN:VTIMEZONE
TZID:Europe/Paris
X-LIC-LOCATION:Europe/Paris
BEGIN:DAYLIGHT
TZOFFSETFROM:+0100
TZOFFSETTO:+0200
TZNAME:CEST
DTSTART:19700329T020000
RRULE:FREQ=YEARLY;BYMONTH=3;BYDAY=-1SU
END:DAYLIGHT
BEGIN:STANDARD
TZOFFSETFROM:+0200
TZOFFSETTO:+0100
TZNAME:CET
DTSTART:19701025T030000
RRULE:FREQ=YEARLY;BYMONTH=10;BYDAY=-1SU
END:STANDARD
END:VTIMEZONE
BEGIN:VEVENT
UID:2485226:Event:1896733
DTSTAMP:20260421T201901Z
SUMMARY:ConfÃ©rence \"Nous avons tous la mÃªme maladie !\" par Nicolas
  Souchal
DESCRIPTION:ConfÃ©rence et pratique autour des liens entre physique qu
 antique,pratiques thÃ©rapeutiques et cheminement spirituelÂ \npar Nico
 las Souchal\n\nthÃ©rapeute, confÃ©rencier et Â«Â crÃ©-acteurÂ Â»\n\nÂ 
 En tissant des liens entre science, conscience, rÃ©alitÃ© physique, mÃ
 ©moires et rÃ©sonance, Nicolas Souchal nous invite Ã  cheminer Ã  l'in
 tÃ©rieur de nous-mÃªme, dans cet espace de silence et de transformatio
 n qui est source de vie et de toute crÃ©ation.\nCe fameux \"champ du p
 oint zÃ©ro\" ou \"champ de la cohÃ©rence universelle\" dont nous parle
 nt les scientifiques n'est-il pas simplement le champ de la PrÃ©sence 
 dans l'ici et maintenant ? Et qu'avons-nous Ã  y trouver ?Â \n\nDu mal
 ade emprisonnÃ© dans notre histoire, dans l'avoir et le faire, devenon
 s simplement ÃŠtre humain, chercheur de lumiÃ¨re, crÃ©ateur dans l'ins
 tant.Â \n\nCette confÃ©rence sera accompagnÃ©e d'une pratique et d'Ã©c
 hanges.Â \n\nNicolas SouchalÂ est ingÃ©nieur de formation, aujourd'hui
  thÃ©rapeute et consultant spÃ©cialisÃ©Â dans les liens entre science 
 moderne, thÃ©rapie et spiritualitÃ©.Â AprÃ¨s un parcours dans lâ€™univ
 ers de la thÃ©rapie quantique, ilÂ sâ€™est peu Ã  peu orientÃ© vers un
 e formeÂ dâ€™accompagnement plus directe, mettant au centre la PrÃ©sen
 ce dans lâ€™instant, comme outil de transformation.Â \n\nTarifÂ : 10 â
 ‚¬\n\nBillets en vente auprÃ¨s de la Librairie ou au 05 56 51 38 12\nN
 ombre de places limitÃ©es â€“ RÃ©servations vivement conseillÃ©es\n\n\
 n\n\nPour plus d'information, aller sur https://epanews.fr/events/conf
 -rence-nous-avons-tous-la-m-me-maladie-par-nicolas-souchal
DTSTART;TZID=Europe/Paris:20140514T193000
DTEND;TZID=Europe/Paris:20140514T213000
CATEGORIES:33, 47, 24, 40, 64
LOCATION:Espace Nansouty
WEBSITE:http://www.librairie-pegase.fr
URL:http://www.librairie-pegase.fr
CONTACT:05 56 51 38 12
ORGANIZER;CN="Librairie PEGASE":https://epanews.fr/profile/LibrairiePE
 GASE
ATTACH;FMTTYPE="image/jpeg":http://storage.ning.com/topology/rest/1.0/
 file/get/1663128175?profile=original
ATTENDEE;ROLE=REQ-PARTICIPANT;PARTSTAT=ACCEPTED;RSVP=TRUE;CN="Librairi
 e PEGASE":https://epanews.fr/profile/LibrairiePEGASE
END:VEVENT
END:VCALENDAR
