BEGIN:VCALENDAR
PRODID:NingEventWidget-v1
VERSION:2.0
METHOD:PUBLISH
BEGIN:VTIMEZONE
TZID:Europe/Paris
X-LIC-LOCATION:Europe/Paris
BEGIN:DAYLIGHT
TZOFFSETFROM:+0100
TZOFFSETTO:+0200
TZNAME:CEST
DTSTART:19700329T020000
RRULE:FREQ=YEARLY;BYMONTH=3;BYDAY=-1SU
END:DAYLIGHT
BEGIN:STANDARD
TZOFFSETFROM:+0200
TZOFFSETTO:+0100
TZNAME:CET
DTSTART:19701025T030000
RRULE:FREQ=YEARLY;BYMONTH=10;BYDAY=-1SU
END:STANDARD
END:VTIMEZONE
BEGIN:VEVENT
UID:2485226:Event:2152092
DTSTAMP:20260422T221239Z
SUMMARY:ConfÃ©rence:New Paradigm Multidimentional Transformation13D
DESCRIPTION:Le New Paradigm Multidimentional TransformationÂ® 13DÂ Par
  Francisco-FÃ©lix MOLINA DA-COSTA\nÂ ConfÃ©rence, mÃ©ditation et parta
 ge de soins entre participants.\nOuverte Ã  toutes les personnes intÃ©
 ressÃ©es par lâ€™Ã©nergÃ©tique du plus haut niveau utilisable pour le 
 moment.\nJe vous invite Ã  une courte prÃ©sentation de ce quâ€™est Le 
 New Paradigm Multidimentional TransformationÂ® 13D et lâ€™Energie Sham
 balla et de poursuivre par une mÃ©ditation de nettoyage qui permettra 
 une ouverture aisÃ©e pour se donner des Ã©changes de soins Ã©nergÃ©tiq
 ues (mÃªme les novices).\nÂ Le cÅ“ur mÃªme de Shamballa c'est l'amour 
 sans condition et l'intÃ©gration de cet amour par l'accent mis sur la 
 puissance du Soi.\nCette Ã©nergie permet dâ€™Ã©largir, dâ€™Ã©largir sa
  conscience et de prendre soin de soi, rÃ©intÃ©grant unitÃ© et plÃ©nit
 ude. Nous expÃ©rimentons alors une profonde connexion avec toute chose
  et chacun en conscience dâ€™unitÃ©.\nÂ Formation de maÃ®tres praticie
 ns Shamballa Multidimentional Healing 13D en 4 jours\nSoins sur rdv - 
 Infos et rÃ©servations :Â  www.belame.com\nÂ Date : HorairesÂ  de 20hÂ
   Ã  22h30\nÂ Lieu : L'Ile blanche â€“ rue Moreau,28Â  - 4800 Ensival 
 (Verviers)\nÂ Tarif : 20â‚¬ sur place et 10â‚¬ d'acompte (dans tous le
 s minis-ateliers de soirÃ©e de Bel'Ame,chaque participant reÃ§oit un s
 oin).\nÂ nfos et rÃ©servations : www.belame.comÂ  -Â  info@belame.comÂ
   - 087 70 47 95Â  â€“Â  0477 46 73 18\n\nPour plus d'information, all
 er sur https://epanews.fr/events/conf-rence-new-paradigm-multidimentio
 nal-transformation13d
DTSTART;TZID=Europe/Paris:20150114T200000
DTEND;TZID=Europe/Paris:20150114T223000
CATEGORIES:belgique
LOCATION:Ensival
WEBSITE:http://www.belame.com
URL:http://www.belame.com
CONTACT:0477467318
ORGANIZER;CN="MOLINA DA-COSTA Francisco-FÃ©lix":https://epanews.fr/pro
 file/MOLINADACOSTAFranciscoFelix
ATTACH;FMTTYPE="image/jpeg":
ATTENDEE;ROLE=REQ-PARTICIPANT;PARTSTAT=ACCEPTED;RSVP=TRUE;CN="MOLINA D
 A-COSTA Francisco-FÃ©lix":https://epanews.fr/profile/MOLINADACOSTAFran
 ciscoFelix
END:VEVENT
END:VCALENDAR
